{"text_format":"1","workbook":"xlsx","n_sheets":2,"sheets":["Sheet1","Sheet2"],"not_rendered":{"charts":0,"images":1,"macros":1,"external_links":0,"defined_names":37,"comments":0,"pivot_tables":0},"unopened":[],"bounds":{"document_bytes":16777216,"sheet_cells":100000,"rows_first":2000,"rows_last":500,"rows_between":2000,"halvings":0,"cell_chars":16384,"cell_head_chars":4096},"cells_cut":0,"cells_raw":0,"read":"whole","date_system":"1900"}

{"sheet":"Sheet1","index":0,"n_rows":38,"n_cols":31,"rows_kept":38,"cut":false,"hidden":false,"merged":[[13,26,13,27],[28,1,29,1],[25,19,26,19],[25,17,26,17],[25,15,26,15],[25,13,26,13],[25,11,26,11],[25,7,26,7],[25,5,26,5],[25,3,26,3],[25,1,26,1],[28,19,29,19],[28,17,29,17],[28,15,29,15],[28,13,29,13],[28,11,29,11],[28,9,29,9],[28,7,29,7],[28,5,29,5],[28,3,29,3],[25,9,26,9],[13,15,14,15],[16,15,17,15],[19,15,20,15],[34,1,35,1],[31,19,32,19],[31,17,32,17],[31,15,32,15],[31,13,32,13],[31,11,32,11],[31,9,32,9],[31,7,32,7],[31,5,32,5],[31,3,32,3],[31,1,32,1],[34,19,35,19],[34,17,35,17],[34,15,35,15],[34,13,35,13],[34,11,35,11],[34,9,35,9],[34,7,35,7],[34,5,35,5],[34,3,35,3],[16,3,17,3],[22,19,23,19],[19,1,20,1],[19,3,20,3],[19,5,20,5],[19,7,20,7],[19,13,20,13],[19,17,20,17],[19,11,20,11],[22,11,23,11],[19,19,20,19],[22,15,23,15],[19,9,20,9],[22,9,23,9],[22,1,23,1],[22,3,23,3],[22,5,23,5],[22,7,23,7],[22,13,23,13],[16,5,17,5],[16,7,17,7],[16,13,17,13],[22,17,23,17],[7,9,8,9],[16,17,17,17],[16,19,17,19],[10,5,11,5],[10,7,11,7],[10,13,11,13],[10,17,11,17],[10,19,11,19],[13,1,14,1],[13,3,14,3],[13,5,14,5],[13,7,14,7],[13,13,14,13],[10,1,11,1],[10,3,11,3],[10,11,11,11],[13,11,14,11],[16,11,17,11],[13,17,14,17],[13,19,14,19],[10,9,11,9],[13,9,14,9],[16,9,17,9],[16,1,17,1],[18,26,18,27],[20,26,20,27],[9,30,10,30],[7,1,8,1],[7,3,8,3],[7,5,8,5],[7,7,8,7],[7,13,8,13],[4,1,5,1],[4,3,5,3],[4,5,5,5],[4,7,5,7],[4,13,5,13],[4,19,5,19],[4,11,5,11],[7,11,8,11],[7,17,8,17],[7,19,8,19],[4,17,5,17],[4,15,5,15],[7,15,8,15],[10,15,11,15],[9,29,10,29],[4,9,5,9]]}
[null,null,"PLC SIMULATOR"]
[]
[null,null,"X5",null,"X6",null,"X7",null,null,null,null,null,null,null,null,null,null,null,"Y1"]
[null,"●","-----| |-----",{"$f":"IF(AND(ISBLANK(D2),ISBLANK(C4)),\"o\",\"●\")","v":"●"},"-----| |-----",{"$f":"IF(AND(ISBLANK(F2),ISBLANK(E4)),\"o\",\"●\")","v":"●"},"-----| |-----",{"$f":"IF(AND(ISBLANK(H2),ISBLANK(G4)),\"o\",\"●\")","v":"●"},"--------------",{"$f":"IF(AND(ISBLANK(J2),ISBLANK(I4)),\"o\",\"●\")","v":"●"},"--------------",{"$f":"IF(AND(ISBLANK(L2),ISBLANK(K4)),\"o\",\"●\")","v":"●"},"--------------",{"$f":"IF(AND(ISBLANK(N2),ISBLANK(M4)),\"o\",\"●\")","v":"●"},"--------------",{"$f":"IF(AND(ISBLANK(P2),ISBLANK(O4)),\"o\",\"●\")","v":"●"},"--------------",{"$f":"IF(AND(ISBLANK(R2),ISBLANK(Q4)),\"o\",\"●\")","v":"●"},"-----(  )-----","●",null,"TAG","TYPE","DESCRIPTION","VALUE",null,"TAG","OPERATE",null,"INSTRUCTION","SYMBOL"]
[null,"|",{"$f":"IF(C3<>\"\",VLOOKUP(C3,$V$5:$X$37,3,0),\"\")","v":"SWITCH 1"},null,{"$f":"IF(E3<>\"\",VLOOKUP(E3,$V$5:$X$37,3,0),\"\")","v":"SWITCH 2"},null,{"$f":"IF(G3<>\"\",VLOOKUP(G3,$V$5:$X$37,3,0),\"\")","v":"SWITCH 3"},null,{"$f":"IF(I3<>\"\",VLOOKUP(I3,$V$5:$X$37,3,0),\"\")","v":""},null,{"$f":"IF(K3<>\"\",VLOOKUP(K3,$V$5:$X$37,3,0),\"\")","v":""},null,{"$f":"IF(M3<>\"\",VLOOKUP(M3,$V$5:$X$37,3,0),\"\")","v":""},null,{"$f":"IF(O3<>\"\",VLOOKUP(O3,$V$5:$X$37,3,0),\"\")","v":""},null,{"$f":"IF(Q3<>\"\",VLOOKUP(Q3,$V$5:$X$37,3,0),\"\")","v":""},null,{"$f":"IF(S3<>\"\",VLOOKUP(S3,$V$5:$X$37,3,0),\"\")","v":"AND OUTPUT"},"|",null,"X1","N/O PUSHBUTTON",null,false,null,"X1",null,null,"CHECK IF TRUE","-----| |-----"]
[null,null,null,null,"X5",null,null,null,null,null,null,null,null,null,null,null,null,null,"Y2",null,null,"X2","N/O PUSHBUTTON",null,false,null,"X2",null,null,"CHECK IF FALSE","----|/|----"]
[null,"●","--------------",{"$f":"IF(AND(ISBLANK(D5),ISBLANK(C7)),\"o\",\"●\")","v":"●"},"-----| |-----",{"$f":"IF(AND(ISBLANK(F5),ISBLANK(E7)),\"o\",\"●\")","v":"●"},"--------------",{"$f":"IF(AND(ISBLANK(H5),ISBLANK(G7)),\"o\",\"●\")","v":"●"},"--------------",{"$f":"IF(AND(ISBLANK(J5),ISBLANK(I7)),\"o\",\"●\")","v":"●"},"--------------",{"$f":"IF(AND(ISBLANK(L5),ISBLANK(K7)),\"o\",\"●\")","v":"●"},"--------------",{"$f":"IF(AND(ISBLANK(N5),ISBLANK(M7)),\"o\",\"●\")","v":"●"},"--------------",{"$f":"IF(AND(ISBLANK(P5),ISBLANK(O7)),\"o\",\"●\")","v":"●"},"--------------",{"$f":"IF(AND(ISBLANK(R5),ISBLANK(Q7)),\"o\",\"●\")","v":"●"},"-----(  )-----","●",null,"X3","N/C PUSHBUTTON",null,true,null,"X3",null,null,"HORIZ LINK","--------------"]
[null,"|",{"$f":"IF(C6<>\"\",VLOOKUP(C6,$V$5:$X$37,3,0),\"\")","v":""},"|",{"$f":"IF(E6<>\"\",VLOOKUP(E6,$V$5:$X$37,3,0),\"\")","v":"SWITCH 1"},"|",{"$f":"IF(G6<>\"\",VLOOKUP(G6,$V$5:$X$37,3,0),\"\")","v":""},null,{"$f":"IF(I6<>\"\",VLOOKUP(I6,$V$5:$X$37,3,0),\"\")","v":""},null,{"$f":"IF(K6<>\"\",VLOOKUP(K6,$V$5:$X$37,3,0),\"\")","v":""},null,{"$f":"IF(M6<>\"\",VLOOKUP(M6,$V$5:$X$37,3,0),\"\")","v":""},null,{"$f":"IF(O6<>\"\",VLOOKUP(O6,$V$5:$X$37,3,0),\"\")","v":""},null,{"$f":"IF(Q6<>\"\",VLOOKUP(Q6,$V$5:$X$37,3,0),\"\")","v":""},null,{"$f":"IF(S6<>\"\",VLOOKUP(S6,$V$5:$X$37,3,0),\"\")","v":"OR OUTPUT"},"|",null,"X4","N/C PUSHBUTTON",null,true,null,"X4",null,null,"COIL","-----(  )-----"]
[null,null,null,null,"X6",null,null,null,null,null,null,null,null,null,null,null,null,null,null,null,null,"X5","ON/OFF SWITCH","SWITCH 1",false,null,"X5",null,null,"TIMER","--[TMR]--"]
[null,"●",null,{"$f":"IF(AND(ISBLANK(D8),ISBLANK(C10)),\"o\",\"●\")","v":"●"},"-----| |-----",{"$f":"IF(AND(ISBLANK(F8),ISBLANK(E10)),\"o\",\"●\")","v":"●"},null,{"$f":"IF(AND(ISBLANK(H8),ISBLANK(G10)),\"o\",\"●\")","v":"o"},null,{"$f":"IF(AND(ISBLANK(J8),ISBLANK(I10)),\"o\",\"●\")","v":"o"},null,{"$f":"IF(AND(ISBLANK(L8),ISBLANK(K10)),\"o\",\"●\")","v":"o"},null,{"$f":"IF(AND(ISBLANK(N8),ISBLANK(M10)),\"o\",\"●\")","v":"o"},null,{"$f":"IF(AND(ISBLANK(P8),ISBLANK(O10)),\"o\",\"●\")","v":"o"},null,{"$f":"IF(AND(ISBLANK(R8),ISBLANK(Q10)),\"o\",\"●\")","v":"o"},null,"●",null,"X6","ON/OFF SWITCH","SWITCH 2",false,null,"X6",null,null,"VERTICAL LINK","|"]
[null,"|",{"$f":"IF(C9<>\"\",VLOOKUP(C9,$V$5:$X$37,3,0),\"\")","v":""},"|",{"$f":"IF(E9<>\"\",VLOOKUP(E9,$V$5:$X$37,3,0),\"\")","v":"SWITCH 2"},"|",{"$f":"IF(G9<>\"\",VLOOKUP(G9,$V$5:$X$37,3,0),\"\")","v":""},null,{"$f":"IF(I9<>\"\",VLOOKUP(I9,$V$5:$X$37,3,0),\"\")","v":""},null,{"$f":"IF(K9<>\"\",VLOOKUP(K9,$V$5:$X$37,3,0),\"\")","v":""},null,{"$f":"IF(M9<>\"\",VLOOKUP(M9,$V$5:$X$37,3,0),\"\")","v":""},null,{"$f":"IF(O9<>\"\",VLOOKUP(O9,$V$5:$X$37,3,0),\"\")","v":""},null,{"$f":"IF(Q9<>\"\",VLOOKUP(Q9,$V$5:$X$37,3,0),\"\")","v":""},null,{"$f":"IF(S9<>\"\",VLOOKUP(S9,$V$5:$X$37,3,0),\"\")","v":""},"|",null,"X7","ON/OFF SWITCH","SWITCH 3",false,null,"X7"]
[null,null,null,null,"X7",null,null,null,null,null,null,null,null,null,null,null,null,null,null,null,null,"X8","ON/OFF SWITCH",null,false,null,"X8"]
[null,"●",null,{"$f":"IF(AND(ISBLANK(D11),ISBLANK(C13)),\"o\",\"●\")","v":"●"},"-----| |-----",{"$f":"IF(AND(ISBLANK(F11),ISBLANK(E13)),\"o\",\"●\")","v":"●"},null,{"$f":"IF(AND(ISBLANK(H11),ISBLANK(G13)),\"o\",\"●\")","v":"o"},null,{"$f":"IF(AND(ISBLANK(J11),ISBLANK(I13)),\"o\",\"●\")","v":"o"},null,{"$f":"IF(AND(ISBLANK(L11),ISBLANK(K13)),\"o\",\"●\")","v":"o"},null,{"$f":"IF(AND(ISBLANK(N11),ISBLANK(M13)),\"o\",\"●\")","v":"o"},null,{"$f":"IF(AND(ISBLANK(P11),ISBLANK(O13)),\"o\",\"●\")","v":"o"},null,{"$f":"IF(AND(ISBLANK(R11),ISBLANK(Q13)),\"o\",\"●\")","v":"o"},null,"●",null,"Y1","DIGITAL OUTPUT","AND OUTPUT",false]
[null,"|",{"$f":"IF(C12<>\"\",VLOOKUP(C12,$V$5:$X$37,3,0),\"\")","v":""},null,{"$f":"IF(E12<>\"\",VLOOKUP(E12,$V$5:$X$37,3,0),\"\")","v":"SWITCH 3"},null,{"$f":"IF(G12<>\"\",VLOOKUP(G12,$V$5:$X$37,3,0),\"\")","v":""},null,{"$f":"IF(I12<>\"\",VLOOKUP(I12,$V$5:$X$37,3,0),\"\")","v":""},null,{"$f":"IF(K12<>\"\",VLOOKUP(K12,$V$5:$X$37,3,0),\"\")","v":""},null,{"$f":"IF(M12<>\"\",VLOOKUP(M12,$V$5:$X$37,3,0),\"\")","v":""},null,{"$f":"IF(O12<>\"\",VLOOKUP(O12,$V$5:$X$37,3,0),\"\")","v":""},null,{"$f":"IF(Q12<>\"\",VLOOKUP(Q12,$V$5:$X$37,3,0),\"\")","v":""},null,{"$f":"IF(S12<>\"\",VLOOKUP(S12,$V$5:$X$37,3,0),\"\")","v":""},"|",null,"Y2","DIGITAL OUTPUT","OR OUTPUT",false,null,"TIMER SETTINGS"]
[null,null,null,null,null,null,null,null,null,null,null,null,null,null,null,null,null,null,null,null,null,"Y3","DIGITAL OUTPUT",null,false,null,"SET(sec)",5]
[null,"●",null,{"$f":"IF(AND(ISBLANK(D14),ISBLANK(C16)),\"o\",\"●\")","v":"o"},null,{"$f":"IF(AND(ISBLANK(F14),ISBLANK(E16)),\"o\",\"●\")","v":"o"},null,{"$f":"IF(AND(ISBLANK(H14),ISBLANK(G16)),\"o\",\"●\")","v":"o"},null,{"$f":"IF(AND(ISBLANK(J14),ISBLANK(I16)),\"o\",\"●\")","v":"o"},null,{"$f":"IF(AND(ISBLANK(L14),ISBLANK(K16)),\"o\",\"●\")","v":"o"},null,{"$f":"IF(AND(ISBLANK(N14),ISBLANK(M16)),\"o\",\"●\")","v":"o"},null,{"$f":"IF(AND(ISBLANK(P14),ISBLANK(O16)),\"o\",\"●\")","v":"o"},null,{"$f":"IF(AND(ISBLANK(R14),ISBLANK(Q16)),\"o\",\"●\")","v":"o"},null,"●",null,"Y4","DIGITAL OUTPUT",null,false,null,"ACCUM",0]
[null,"|",{"$f":"IF(C15<>\"\",VLOOKUP(C15,$V$5:$X$37,3,0),\"\")","v":""},null,{"$f":"IF(E15<>\"\",VLOOKUP(E15,$V$5:$X$37,3,0),\"\")","v":""},null,{"$f":"IF(G15<>\"\",VLOOKUP(G15,$V$5:$X$37,3,0),\"\")","v":""},null,{"$f":"IF(I15<>\"\",VLOOKUP(I15,$V$5:$X$37,3,0),\"\")","v":""},null,{"$f":"IF(K15<>\"\",VLOOKUP(K15,$V$5:$X$37,3,0),\"\")","v":""},null,{"$f":"IF(M15<>\"\",VLOOKUP(M15,$V$5:$X$37,3,0),\"\")","v":""},null,{"$f":"IF(O15<>\"\",VLOOKUP(O15,$V$5:$X$37,3,0),\"\")","v":""},null,{"$f":"IF(Q15<>\"\",VLOOKUP(Q15,$V$5:$X$37,3,0),\"\")","v":""},null,{"$f":"IF(S15<>\"\",VLOOKUP(S15,$V$5:$X$37,3,0),\"\")","v":""},"|",null,"Y5","DIGITAL OUTPUT",null,false]
[null,null,null,null,null,null,null,null,null,null,null,null,null,null,null,null,null,null,null,null,null,"Y6","DIGITAL OUTPUT",null,false]
[null,"●",null,{"$f":"IF(AND(ISBLANK(D17),ISBLANK(C19)),\"o\",\"●\")","v":"o"},null,{"$f":"IF(AND(ISBLANK(F17),ISBLANK(E19)),\"o\",\"●\")","v":"o"},null,{"$f":"IF(AND(ISBLANK(H17),ISBLANK(G19)),\"o\",\"●\")","v":"o"},null,{"$f":"IF(AND(ISBLANK(J17),ISBLANK(I19)),\"o\",\"●\")","v":"o"},null,{"$f":"IF(AND(ISBLANK(L17),ISBLANK(K19)),\"o\",\"●\")","v":"o"},null,{"$f":"IF(AND(ISBLANK(N17),ISBLANK(M19)),\"o\",\"●\")","v":"o"},null,{"$f":"IF(AND(ISBLANK(P17),ISBLANK(O19)),\"o\",\"●\")","v":"o"},null,{"$f":"IF(AND(ISBLANK(R17),ISBLANK(Q19)),\"o\",\"●\")","v":"o"},null,"●",null,"Y7","DIGITAL OUTPUT",null,false,null,"PLC Status"]
[null,"|",{"$f":"IF(C18<>\"\",VLOOKUP(C18,$V$5:$X$37,3,0),\"\")","v":""},null,{"$f":"IF(E18<>\"\",VLOOKUP(E18,$V$5:$X$37,3,0),\"\")","v":""},null,{"$f":"IF(G18<>\"\",VLOOKUP(G18,$V$5:$X$37,3,0),\"\")","v":""},null,{"$f":"IF(I18<>\"\",VLOOKUP(I18,$V$5:$X$37,3,0),\"\")","v":""},null,{"$f":"IF(K18<>\"\",VLOOKUP(K18,$V$5:$X$37,3,0),\"\")","v":""},null,{"$f":"IF(M18<>\"\",VLOOKUP(M18,$V$5:$X$37,3,0),\"\")","v":""},null,{"$f":"IF(O18<>\"\",VLOOKUP(O18,$V$5:$X$37,3,0),\"\")","v":""},null,{"$f":"IF(Q18<>\"\",VLOOKUP(Q18,$V$5:$X$37,3,0),\"\")","v":""},null,{"$f":"IF(S18<>\"\",VLOOKUP(S18,$V$5:$X$37,3,0),\"\")","v":""},"|",null,"Y8","DIGITAL OUTPUT",null,false]
[null,null,null,null,null,null,null,null,null,null,null,null,null,null,null,null,null,null,null,null,null,"I1","INTERNAL COIL",null,false,null,"IDLE"]
[null,"●",null,{"$f":"IF(AND(ISBLANK(D20),ISBLANK(C22)),\"o\",\"●\")","v":"o"},null,{"$f":"IF(AND(ISBLANK(F20),ISBLANK(E22)),\"o\",\"●\")","v":"o"},null,{"$f":"IF(AND(ISBLANK(H20),ISBLANK(G22)),\"o\",\"●\")","v":"o"},null,{"$f":"IF(AND(ISBLANK(J20),ISBLANK(I22)),\"o\",\"●\")","v":"o"},null,{"$f":"IF(AND(ISBLANK(L20),ISBLANK(K22)),\"o\",\"●\")","v":"o"},null,{"$f":"IF(AND(ISBLANK(N20),ISBLANK(M22)),\"o\",\"●\")","v":"o"},null,{"$f":"IF(AND(ISBLANK(P20),ISBLANK(O22)),\"o\",\"●\")","v":"o"},null,{"$f":"IF(AND(ISBLANK(R20),ISBLANK(Q22)),\"o\",\"●\")","v":"o"},null,"●",null,"I2","INTERNAL COIL",null,false]
[null,"|",{"$f":"IF(C21<>\"\",VLOOKUP(C21,$V$5:$X$37,3,0),\"\")","v":""},null,{"$f":"IF(E21<>\"\",VLOOKUP(E21,$V$5:$X$37,3,0),\"\")","v":""},null,{"$f":"IF(G21<>\"\",VLOOKUP(G21,$V$5:$X$37,3,0),\"\")","v":""},null,{"$f":"IF(I21<>\"\",VLOOKUP(I21,$V$5:$X$37,3,0),\"\")","v":""},null,{"$f":"IF(K21<>\"\",VLOOKUP(K21,$V$5:$X$37,3,0),\"\")","v":""},null,{"$f":"IF(M21<>\"\",VLOOKUP(M21,$V$5:$X$37,3,0),\"\")","v":""},null,{"$f":"IF(O21<>\"\",VLOOKUP(O21,$V$5:$X$37,3,0),\"\")","v":""},null,{"$f":"IF(Q21<>\"\",VLOOKUP(Q21,$V$5:$X$37,3,0),\"\")","v":""},null,{"$f":"IF(S21<>\"\",VLOOKUP(S21,$V$5:$X$37,3,0),\"\")","v":""},"|",null,"I3","INTERNAL COIL",null,false]
[null,null,null,null,null,null,null,null,null,null,null,null,null,null,null,null,null,null,null,null,null,"I4","INTERNAL COIL",null,false]
[null,"●",null,{"$f":"IF(AND(ISBLANK(D23),ISBLANK(C25)),\"o\",\"●\")","v":"o"},null,{"$f":"IF(AND(ISBLANK(F23),ISBLANK(E25)),\"o\",\"●\")","v":"o"},null,{"$f":"IF(AND(ISBLANK(H23),ISBLANK(G25)),\"o\",\"●\")","v":"o"},null,{"$f":"IF(AND(ISBLANK(J23),ISBLANK(I25)),\"o\",\"●\")","v":"o"},null,{"$f":"IF(AND(ISBLANK(L23),ISBLANK(K25)),\"o\",\"●\")","v":"o"},null,{"$f":"IF(AND(ISBLANK(N23),ISBLANK(M25)),\"o\",\"●\")","v":"o"},null,{"$f":"IF(AND(ISBLANK(P23),ISBLANK(O25)),\"o\",\"●\")","v":"o"},null,{"$f":"IF(AND(ISBLANK(R23),ISBLANK(Q25)),\"o\",\"●\")","v":"o"},null,"●",null,"I5","INTERNAL COIL",null,false]
[null,"|",{"$f":"IF(C24<>\"\",VLOOKUP(C24,$V$5:$X$37,3,0),\"\")","v":""},null,{"$f":"IF(E24<>\"\",VLOOKUP(E24,$V$5:$X$37,3,0),\"\")","v":""},null,{"$f":"IF(G24<>\"\",VLOOKUP(G24,$V$5:$X$37,3,0),\"\")","v":""},null,{"$f":"IF(I24<>\"\",VLOOKUP(I24,$V$5:$X$37,3,0),\"\")","v":""},null,{"$f":"IF(K24<>\"\",VLOOKUP(K24,$V$5:$X$37,3,0),\"\")","v":""},null,{"$f":"IF(M24<>\"\",VLOOKUP(M24,$V$5:$X$37,3,0),\"\")","v":""},null,{"$f":"IF(O24<>\"\",VLOOKUP(O24,$V$5:$X$37,3,0),\"\")","v":""},null,{"$f":"IF(Q24<>\"\",VLOOKUP(Q24,$V$5:$X$37,3,0),\"\")","v":""},null,{"$f":"IF(S24<>\"\",VLOOKUP(S24,$V$5:$X$37,3,0),\"\")","v":""},"|",null,"I6","INTERNAL COIL",null,false]
[null,null,null,null,null,null,null,null,null,null,null,null,null,null,null,null,null,null,null,null,null,"I7","INTERNAL COIL",null,false]
[null,"●",null,{"$f":"IF(AND(ISBLANK(D26),ISBLANK(C28)),\"o\",\"●\")","v":"o"},null,{"$f":"IF(AND(ISBLANK(F26),ISBLANK(E28)),\"o\",\"●\")","v":"o"},null,{"$f":"IF(AND(ISBLANK(H26),ISBLANK(G28)),\"o\",\"●\")","v":"o"},null,{"$f":"IF(AND(ISBLANK(J26),ISBLANK(I28)),\"o\",\"●\")","v":"o"},null,{"$f":"IF(AND(ISBLANK(L26),ISBLANK(K28)),\"o\",\"●\")","v":"o"},null,{"$f":"IF(AND(ISBLANK(N26),ISBLANK(M28)),\"o\",\"●\")","v":"o"},null,{"$f":"IF(AND(ISBLANK(P26),ISBLANK(O28)),\"o\",\"●\")","v":"o"},null,{"$f":"IF(AND(ISBLANK(R26),ISBLANK(Q28)),\"o\",\"●\")","v":"o"},null,"●",null,"I8","INTERNAL COIL",null,false]
[null,"|",{"$f":"IF(C27<>\"\",VLOOKUP(C27,$V$5:$X$37,3,0),\"\")","v":""},null,{"$f":"IF(E27<>\"\",VLOOKUP(E27,$V$5:$X$37,3,0),\"\")","v":""},null,{"$f":"IF(G27<>\"\",VLOOKUP(G27,$V$5:$X$37,3,0),\"\")","v":""},null,{"$f":"IF(I27<>\"\",VLOOKUP(I27,$V$5:$X$37,3,0),\"\")","v":""},null,{"$f":"IF(K27<>\"\",VLOOKUP(K27,$V$5:$X$37,3,0),\"\")","v":""},null,{"$f":"IF(M27<>\"\",VLOOKUP(M27,$V$5:$X$37,3,0),\"\")","v":""},null,{"$f":"IF(O27<>\"\",VLOOKUP(O27,$V$5:$X$37,3,0),\"\")","v":""},null,{"$f":"IF(Q27<>\"\",VLOOKUP(Q27,$V$5:$X$37,3,0),\"\")","v":""},null,{"$f":"IF(S27<>\"\",VLOOKUP(S27,$V$5:$X$37,3,0),\"\")","v":""},"|",null,"I9","INTERNAL COIL",null,false]
[null,null,null,null,null,null,null,null,null,null,null,null,null,null,null,null,null,null,null,null,null,"IA","INTERNAL COIL",null,false]
[null,"●",null,{"$f":"IF(AND(ISBLANK(D29),ISBLANK(C31)),\"o\",\"●\")","v":"o"},null,{"$f":"IF(AND(ISBLANK(F29),ISBLANK(E31)),\"o\",\"●\")","v":"o"},null,{"$f":"IF(AND(ISBLANK(H29),ISBLANK(G31)),\"o\",\"●\")","v":"o"},null,{"$f":"IF(AND(ISBLANK(J29),ISBLANK(I31)),\"o\",\"●\")","v":"o"},null,{"$f":"IF(AND(ISBLANK(L29),ISBLANK(K31)),\"o\",\"●\")","v":"o"},null,{"$f":"IF(AND(ISBLANK(N29),ISBLANK(M31)),\"o\",\"●\")","v":"o"},null,{"$f":"IF(AND(ISBLANK(P29),ISBLANK(O31)),\"o\",\"●\")","v":"o"},null,{"$f":"IF(AND(ISBLANK(R29),ISBLANK(Q31)),\"o\",\"●\")","v":"o"},null,"●",null,"IB","INTERNAL COIL",null,false]
[null,"|",{"$f":"IF(C30<>\"\",VLOOKUP(C30,$V$5:$X$37,3,0),\"\")","v":""},null,{"$f":"IF(E30<>\"\",VLOOKUP(E30,$V$5:$X$37,3,0),\"\")","v":""},null,{"$f":"IF(G30<>\"\",VLOOKUP(G30,$V$5:$X$37,3,0),\"\")","v":""},null,{"$f":"IF(I30<>\"\",VLOOKUP(I30,$V$5:$X$37,3,0),\"\")","v":""},null,{"$f":"IF(K30<>\"\",VLOOKUP(K30,$V$5:$X$37,3,0),\"\")","v":""},null,{"$f":"IF(M30<>\"\",VLOOKUP(M30,$V$5:$X$37,3,0),\"\")","v":""},null,{"$f":"IF(O30<>\"\",VLOOKUP(O30,$V$5:$X$37,3,0),\"\")","v":""},null,{"$f":"IF(Q30<>\"\",VLOOKUP(Q30,$V$5:$X$37,3,0),\"\")","v":""},null,{"$f":"IF(S30<>\"\",VLOOKUP(S30,$V$5:$X$37,3,0),\"\")","v":""},"|",null,"IC","INTERNAL COIL",null,false]
[null,null,null,null,null,null,null,null,null,null,null,null,null,null,null,null,null,null,null,null,null,"ID","INTERNAL COIL",null,false]
[null,"●",null,{"$f":"IF(AND(ISBLANK(D32),ISBLANK(C34)),\"o\",\"●\")","v":"o"},null,{"$f":"IF(AND(ISBLANK(F32),ISBLANK(E34)),\"o\",\"●\")","v":"o"},null,{"$f":"IF(AND(ISBLANK(H32),ISBLANK(G34)),\"o\",\"●\")","v":"o"},null,{"$f":"IF(AND(ISBLANK(J32),ISBLANK(I34)),\"o\",\"●\")","v":"o"},null,{"$f":"IF(AND(ISBLANK(L32),ISBLANK(K34)),\"o\",\"●\")","v":"o"},null,{"$f":"IF(AND(ISBLANK(N32),ISBLANK(M34)),\"o\",\"●\")","v":"o"},null,{"$f":"IF(AND(ISBLANK(P32),ISBLANK(O34)),\"o\",\"●\")","v":"o"},null,{"$f":"IF(AND(ISBLANK(R32),ISBLANK(Q34)),\"o\",\"●\")","v":"o"},null,"●",null,"IE","INTERNAL COIL",null,false]
[null,"|",{"$f":"IF(C33<>\"\",VLOOKUP(C33,$V$5:$X$37,3,0),\"\")","v":""},null,{"$f":"IF(E33<>\"\",VLOOKUP(E33,$V$5:$X$37,3,0),\"\")","v":""},null,{"$f":"IF(G33<>\"\",VLOOKUP(G33,$V$5:$X$37,3,0),\"\")","v":""},null,{"$f":"IF(I33<>\"\",VLOOKUP(I33,$V$5:$X$37,3,0),\"\")","v":""},null,{"$f":"IF(K33<>\"\",VLOOKUP(K33,$V$5:$X$37,3,0),\"\")","v":""},null,{"$f":"IF(M33<>\"\",VLOOKUP(M33,$V$5:$X$37,3,0),\"\")","v":""},null,{"$f":"IF(O33<>\"\",VLOOKUP(O33,$V$5:$X$37,3,0),\"\")","v":""},null,{"$f":"IF(Q33<>\"\",VLOOKUP(Q33,$V$5:$X$37,3,0),\"\")","v":""},null,{"$f":"IF(S33<>\"\",VLOOKUP(S33,$V$5:$X$37,3,0),\"\")","v":""},"|",null,"IF","INTERNAL COIL",null,false]
[null,null,null,null,null,null,null,null,null,null,null,null,null,null,null,null,null,null,null,null,null,"I0","INTERNAL COIL",null,false]
[null,"●",null,{"$f":"IF(AND(ISBLANK(D35),ISBLANK(C37)),\"o\",\"●\")","v":"o"},null,{"$f":"IF(AND(ISBLANK(F35),ISBLANK(E37)),\"o\",\"●\")","v":"o"},null,{"$f":"IF(AND(ISBLANK(H35),ISBLANK(G37)),\"o\",\"●\")","v":"o"},null,{"$f":"IF(AND(ISBLANK(J35),ISBLANK(I37)),\"o\",\"●\")","v":"o"},null,{"$f":"IF(AND(ISBLANK(L35),ISBLANK(K37)),\"o\",\"●\")","v":"o"},null,{"$f":"IF(AND(ISBLANK(N35),ISBLANK(M37)),\"o\",\"●\")","v":"o"},null,{"$f":"IF(AND(ISBLANK(P35),ISBLANK(O37)),\"o\",\"●\")","v":"o"},null,{"$f":"IF(AND(ISBLANK(R35),ISBLANK(Q37)),\"o\",\"●\")","v":"o"},null,"●",null,"TM","TIMER",null,{"$f":"TMOUT>=TMSET","v":false}]
[null,null,null,null,null,null,null,null,null,null,null,null,null,null,null,null,null,null,{"$f":"IF(OR(AND(S37=COIL,S36=\"TM\"),AND(S37=TMR,S36<>\"TM\")),\"ERROR\",\"\")","v":""}]

{"sheet":"Sheet2","index":1,"n_rows":38,"n_cols":19,"rows_kept":38,"cut":false,"hidden":false,"merged":[]}
[]
[null,true,null,null,null,null,null,null,null,null,null,null,null,null,null,null,null,null,"),\"ERROR\")"]
[null,null,{"$f":"IF(C4=\"\",\"\",\"AND(\"&C4)","v":"AND(FALSE,"},{"$f":"IF(D4=\"\",\"\",C3&IF(D4=\",\",\"\",D4))","v":"AND(FALSE,"},{"$f":"IF(E4=\"\",\"\",D3&IF(E4=\",\",\"\",E4))","v":"AND(FALSE,FALSE,"},"AND(FALSE,FALSE,","AND(FALSE,FALSE,FALSE,","AND(FALSE,FALSE,FALSE,","AND(FALSE,FALSE,FALSE,1,","AND(FALSE,FALSE,FALSE,1,","AND(FALSE,FALSE,FALSE,1,1,","AND(FALSE,FALSE,FALSE,1,1,","AND(FALSE,FALSE,FALSE,1,1,1,","AND(FALSE,FALSE,FALSE,1,1,1,","AND(FALSE,FALSE,FALSE,1,1,1,1,","AND(FALSE,FALSE,FALSE,1,1,1,1,","AND(FALSE,FALSE,FALSE,1,1,1,1,1",null,{"$f":"IF(Sheet1!S3=\"\",\"\",Sheet1!S3)","v":"Y1"}]
[null,null,{"$f":"IFERROR(IF(Sheet1!C4=\"\",\"\",IF(Sheet1!C4=LINK,\"1,\",IF(Sheet1!C4=CHKON,VLOOKUP(Sheet1!C3,Sheet1!$V$5:$Y$37,4,0),NOT(VLOOKUP(Sheet1!C3,Sheet1!$V$5:$Y$37,4,0)))&\",\")),\"ERR\")","v":"FALSE,"},{"$f":"IF(D5,IF(C7=\"\",\"OR(AND(\",\"1),\"&D6&\"),\"),IF(D2,IF(C4=\"\",\"AND(\",\"1)\"),\",\"))","v":","},{"$f":"IFERROR(IF(Sheet1!E4=\"\",\"\",IF(Sheet1!E4=LINK,\"1,\",IF(Sheet1!E4=CHKON,VLOOKUP(Sheet1!E3,Sheet1!$V$5:$Y$37,4,0),NOT(VLOOKUP(Sheet1!E3,Sheet1!$V$5:$Y$37,4,0)))&\",\")),\"ERR\")","v":"FALSE,"},{"$f":"IF(F5,IF(E7=\"\",\"OR(AND(\",\"1),\"&F6&\"),\"),IF(F2,IF(E4=\"\",\"AND(\",\"1)\"),\",\"))","v":","},{"$f":"IFERROR(IF(Sheet1!G4=\"\",\"\",IF(Sheet1!G4=LINK,\"1,\",IF(Sheet1!G4=CHKON,VLOOKUP(Sheet1!G3,Sheet1!$V$5:$Y$37,4,0),NOT(VLOOKUP(Sheet1!G3,Sheet1!$V$5:$Y$37,4,0)))&\",\")),\"ERR\")","v":"FALSE,"},{"$f":"IF(H5,IF(G7=\"\",\"OR(AND(\",\"1),\"&H6&\"),\"),IF(H2,IF(G4=\"\",\"AND(\",\"1)\"),\",\"))","v":","},{"$f":"IFERROR(IF(Sheet1!I4=\"\",\"\",IF(Sheet1!I4=LINK,\"1,\",IF(Sheet1!I4=CHKON,VLOOKUP(Sheet1!I3,Sheet1!$V$5:$Y$37,4,0),NOT(VLOOKUP(Sheet1!I3,Sheet1!$V$5:$Y$37,4,0)))&\",\")),\"ERR\")","v":"1,"},{"$f":"IF(J5,IF(I7=\"\",\"OR(AND(\",\"1),\"&J6&\"),\"),IF(J2,IF(I4=\"\",\"AND(\",\"1)\"),\",\"))","v":","},{"$f":"IFERROR(IF(Sheet1!K4=\"\",\"\",IF(Sheet1!K4=LINK,\"1,\",IF(Sheet1!K4=CHKON,VLOOKUP(Sheet1!K3,Sheet1!$V$5:$Y$37,4,0),NOT(VLOOKUP(Sheet1!K3,Sheet1!$V$5:$Y$37,4,0)))&\",\")),\"ERR\")","v":"1,"},{"$f":"IF(L5,IF(K7=\"\",\"OR(AND(\",\"1),\"&L6&\"),\"),IF(L2,IF(K4=\"\",\"AND(\",\"1)\"),\",\"))","v":","},{"$f":"IFERROR(IF(Sheet1!M4=\"\",\"\",IF(Sheet1!M4=LINK,\"1,\",IF(Sheet1!M4=CHKON,VLOOKUP(Sheet1!M3,Sheet1!$V$5:$Y$37,4,0),NOT(VLOOKUP(Sheet1!M3,Sheet1!$V$5:$Y$37,4,0)))&\",\")),\"ERR\")","v":"1,"},{"$f":"IF(N5,IF(M7=\"\",\"OR(AND(\",\"1),\"&N6&\"),\"),IF(N2,IF(M4=\"\",\"AND(\",\"1)\"),\",\"))","v":","},{"$f":"IFERROR(IF(Sheet1!O4=\"\",\"\",IF(Sheet1!O4=LINK,\"1,\",IF(Sheet1!O4=CHKON,VLOOKUP(Sheet1!O3,Sheet1!$V$5:$Y$37,4,0),NOT(VLOOKUP(Sheet1!O3,Sheet1!$V$5:$Y$37,4,0)))&\",\")),\"ERR\")","v":"1,"},{"$f":"IF(P5,IF(O7=\"\",\"OR(AND(\",\"1),\"&P6&\"),\"),IF(P2,IF(O4=\"\",\"AND(\",\"1)\"),\",\"))","v":","},{"$f":"IFERROR(IF(Sheet1!Q4=\"\",\"\",IF(Sheet1!Q4=LINK,\"1\",IF(Sheet1!Q4=CHKON,VLOOKUP(Sheet1!Q3,Sheet1!$V$5:$Y$37,4,0),NOT(VLOOKUP(Sheet1!Q3,Sheet1!$V$5:$Y$37,4,0))))),\"ERR\")","v":"1"},{"$f":"IF(Q3=\"\",\"\",\"IFERROR(\"&Q3&$S$2)","v":"IFERROR(AND(FALSE,FALSE,FALSE,1,1,1,1,1),\"ERROR\")"},0]
[null,true,null,{"$f":"Sheet1!D5=VLINK","v":false},null,{"$f":"Sheet1!F5=VLINK","v":false},null,{"$f":"Sheet1!H5=VLINK","v":false},null,{"$f":"Sheet1!J5=VLINK","v":false},null,{"$f":"Sheet1!L5=VLINK","v":false},null,{"$f":"Sheet1!N5=VLINK","v":false},null,{"$f":"Sheet1!P5=VLINK","v":false}]
[null,null,{"$f":"IF(C7=\"\",\"\",\"AND(\"&C7)","v":"AND(1,"},{"$f":"IF(D7=\"\",\"\",C6&IF(D7=\",\",\"\",D7))","v":"AND(1,OR(AND("},{"$f":"IF(E7=\"\",\"\",D6&IF(E7=\",\",\"\",E7))","v":"AND(1,OR(AND(FALSE,"},{"$f":"IF(F7=\"\",\"\",E6&IF(F7=\",\",\"\",F7))","v":"AND(1,OR(AND(FALSE,1),OR(AND(FALSE,1),AND(FALSE,1)),),"},{"$f":"IF(G7=\"\",\"\",F6&IF(G7=\",\",\"\",G7))","v":"AND(1,OR(AND(FALSE,1),OR(AND(FALSE,1),AND(FALSE,1)),),1,"},{"$f":"IF(H7=\"\",\"\",G6&IF(H7=\",\",\"\",H7))","v":"AND(1,OR(AND(FALSE,1),OR(AND(FALSE,1),AND(FALSE,1)),),1,"},{"$f":"IF(I7=\"\",\"\",H6&IF(I7=\",\",\"\",I7))","v":"AND(1,OR(AND(FALSE,1),OR(AND(FALSE,1),AND(FALSE,1)),),1,1,"},{"$f":"IF(J7=\"\",\"\",I6&IF(J7=\",\",\"\",J7))","v":"AND(1,OR(AND(FALSE,1),OR(AND(FALSE,1),AND(FALSE,1)),),1,1,"},{"$f":"IF(K7=\"\",\"\",J6&IF(K7=\",\",\"\",K7))","v":"AND(1,OR(AND(FALSE,1),OR(AND(FALSE,1),AND(FALSE,1)),),1,1,1,"},{"$f":"IF(L7=\"\",\"\",K6&IF(L7=\",\",\"\",L7))","v":"AND(1,OR(AND(FALSE,1),OR(AND(FALSE,1),AND(FALSE,1)),),1,1,1,"},{"$f":"IF(M7=\"\",\"\",L6&IF(M7=\",\",\"\",M7))","v":"AND(1,OR(AND(FALSE,1),OR(AND(FALSE,1),AND(FALSE,1)),),1,1,1,1,"},{"$f":"IF(N7=\"\",\"\",M6&IF(N7=\",\",\"\",N7))","v":"AND(1,OR(AND(FALSE,1),OR(AND(FALSE,1),AND(FALSE,1)),),1,1,1,1,"},{"$f":"IF(O7=\"\",\"\",N6&IF(O7=\",\",\"\",O7))","v":"AND(1,OR(AND(FALSE,1),OR(AND(FALSE,1),AND(FALSE,1)),),1,1,1,1,1,"},{"$f":"IF(P7=\"\",\"\",O6&IF(P7=\",\",\"\",P7))","v":"AND(1,OR(AND(FALSE,1),OR(AND(FALSE,1),AND(FALSE,1)),),1,1,1,1,1,"},{"$f":"IF(Q7=\"\",\"\",P6&IF(Q7=\",\",\"\",Q7))","v":"AND(1,OR(AND(FALSE,1),OR(AND(FALSE,1),AND(FALSE,1)),),1,1,1,1,1,1"},null,{"$f":"IF(Sheet1!S6=\"\",\"\",Sheet1!S6)","v":"Y2"}]
[null,null,{"$f":"IFERROR(IF(Sheet1!C7=\"\",\"\",IF(Sheet1!C7=LINK,\"1,\",IF(Sheet1!C7=CHKON,VLOOKUP(Sheet1!C6,Sheet1!$V$5:$Y$37,4,0),NOT(VLOOKUP(Sheet1!C6,Sheet1!$V$5:$Y$37,4,0)))&\",\")),\"ERR\")","v":"1,"},{"$f":"IF(D8,IF(C10=\"\",\"OR(AND(\",\"1),\"&D9&\"),\"),IF(D5,IF(C7=\"\",\"AND(\",\"1)\"),\",\"))","v":"OR(AND("},{"$f":"IFERROR(IF(Sheet1!E7=\"\",\"\",IF(Sheet1!E7=LINK,\"1,\",IF(Sheet1!E7=CHKON,VLOOKUP(Sheet1!E6,Sheet1!$V$5:$Y$37,4,0),NOT(VLOOKUP(Sheet1!E6,Sheet1!$V$5:$Y$37,4,0)))&\",\")),\"ERR\")","v":"FALSE,"},{"$f":"IF(F8,IF(E10=\"\",\"OR(AND(\",\"1),\"&F9&\"),\"),IF(F5,IF(E7=\"\",\"AND(\",\"1)\"),\",\"))","v":"1),OR(AND(FALSE,1),AND(FALSE,1)),),"},{"$f":"IFERROR(IF(Sheet1!G7=\"\",\"\",IF(Sheet1!G7=LINK,\"1,\",IF(Sheet1!G7=CHKON,VLOOKUP(Sheet1!G6,Sheet1!$V$5:$Y$37,4,0),NOT(VLOOKUP(Sheet1!G6,Sheet1!$V$5:$Y$37,4,0)))&\",\")),\"ERR\")","v":"1,"},{"$f":"IF(H8,IF(G10=\"\",\"OR(AND(\",\"1),\"&H9&\"),\"),IF(H5,IF(G7=\"\",\"AND(\",\"1)\"),\",\"))","v":","},{"$f":"IFERROR(IF(Sheet1!I7=\"\",\"\",IF(Sheet1!I7=LINK,\"1,\",IF(Sheet1!I7=CHKON,VLOOKUP(Sheet1!I6,Sheet1!$V$5:$Y$37,4,0),NOT(VLOOKUP(Sheet1!I6,Sheet1!$V$5:$Y$37,4,0)))&\",\")),\"ERR\")","v":"1,"},{"$f":"IF(J8,IF(I10=\"\",\"OR(AND(\",\"1),\"&J9&\"),\"),IF(J5,IF(I7=\"\",\"AND(\",\"1)\"),\",\"))","v":","},{"$f":"IFERROR(IF(Sheet1!K7=\"\",\"\",IF(Sheet1!K7=LINK,\"1,\",IF(Sheet1!K7=CHKON,VLOOKUP(Sheet1!K6,Sheet1!$V$5:$Y$37,4,0),NOT(VLOOKUP(Sheet1!K6,Sheet1!$V$5:$Y$37,4,0)))&\",\")),\"ERR\")","v":"1,"},{"$f":"IF(L8,IF(K10=\"\",\"OR(AND(\",\"1),\"&L9&\"),\"),IF(L5,IF(K7=\"\",\"AND(\",\"1)\"),\",\"))","v":","},{"$f":"IFERROR(IF(Sheet1!M7=\"\",\"\",IF(Sheet1!M7=LINK,\"1,\",IF(Sheet1!M7=CHKON,VLOOKUP(Sheet1!M6,Sheet1!$V$5:$Y$37,4,0),NOT(VLOOKUP(Sheet1!M6,Sheet1!$V$5:$Y$37,4,0)))&\",\")),\"ERR\")","v":"1,"},{"$f":"IF(N8,IF(M10=\"\",\"OR(AND(\",\"1),\"&N9&\"),\"),IF(N5,IF(M7=\"\",\"AND(\",\"1)\"),\",\"))","v":","},{"$f":"IFERROR(IF(Sheet1!O7=\"\",\"\",IF(Sheet1!O7=LINK,\"1,\",IF(Sheet1!O7=CHKON,VLOOKUP(Sheet1!O6,Sheet1!$V$5:$Y$37,4,0),NOT(VLOOKUP(Sheet1!O6,Sheet1!$V$5:$Y$37,4,0)))&\",\")),\"ERR\")","v":"1,"},{"$f":"IF(P8,IF(O10=\"\",\"OR(AND(\",\"1),\"&P9&\"),\"),IF(P5,IF(O7=\"\",\"AND(\",\"1)\"),\",\"))","v":","},{"$f":"IFERROR(IF(Sheet1!Q7=\"\",\"\",IF(Sheet1!Q7=LINK,\"1\",IF(Sheet1!Q7=CHKON,VLOOKUP(Sheet1!Q6,Sheet1!$V$5:$Y$37,4,0),NOT(VLOOKUP(Sheet1!Q6,Sheet1!$V$5:$Y$37,4,0))))),\"ERR\")","v":"1"},{"$f":"IF(Q6=\"\",\"\",\"IFERROR(\"&Q6&$S$2)","v":"IFERROR(AND(1,OR(AND(FALSE,1),OR(AND(FALSE,1),AND(FALSE,1)),),1,1,1,1,1,1),\"ERROR\")"},0]
[null,true,null,{"$f":"Sheet1!D8=VLINK","v":true},null,{"$f":"Sheet1!F8=VLINK","v":true},null,{"$f":"Sheet1!H8=VLINK","v":false},null,{"$f":"Sheet1!J8=VLINK","v":false},null,{"$f":"Sheet1!L8=VLINK","v":false},null,{"$f":"Sheet1!N8=VLINK","v":false},null,{"$f":"Sheet1!P8=VLINK","v":false}]
[null,null,{"$f":"IF(C10=\"\",\"\",\"AND(\"&C10)","v":""},{"$f":"IF(D10=\"\",\"\",C9&IF(D10=\",\",\"\",D10))","v":"OR(AND("},{"$f":"IF(E10=\"\",\"\",D9&IF(E10=\",\",\"\",E10))","v":"OR(AND(FALSE,"},{"$f":"IF(F10=\"\",\"\",E9&IF(F10=\",\",\"\",F10))","v":"OR(AND(FALSE,1),AND(FALSE,1)),"},{"$f":"IF(G10=\"\",\"\",F9&IF(G10=\",\",\"\",G10))","v":""},{"$f":"IF(H10=\"\",\"\",G9&IF(H10=\",\",\"\",H10))","v":""},{"$f":"IF(I10=\"\",\"\",H9&IF(I10=\",\",\"\",I10))","v":""},{"$f":"IF(J10=\"\",\"\",I9&IF(J10=\",\",\"\",J10))","v":""},{"$f":"IF(K10=\"\",\"\",J9&IF(K10=\",\",\"\",K10))","v":""},{"$f":"IF(L10=\"\",\"\",K9&IF(L10=\",\",\"\",L10))","v":""},{"$f":"IF(M10=\"\",\"\",L9&IF(M10=\",\",\"\",M10))","v":""},{"$f":"IF(N10=\"\",\"\",M9&IF(N10=\",\",\"\",N10))","v":""},{"$f":"IF(O10=\"\",\"\",N9&IF(O10=\",\",\"\",O10))","v":""},{"$f":"IF(P10=\"\",\"\",O9&IF(P10=\",\",\"\",P10))","v":""},{"$f":"IF(Q10=\"\",\"\",P9&IF(Q10=\",\",\"\",Q10))","v":""},null,{"$f":"IF(Sheet1!S9=\"\",\"\",Sheet1!S9)","v":""}]
[null,null,{"$f":"IFERROR(IF(Sheet1!C10=\"\",\"\",IF(Sheet1!C10=LINK,\"1,\",IF(Sheet1!C10=CHKON,VLOOKUP(Sheet1!C9,Sheet1!$V$5:$Y$37,4,0),NOT(VLOOKUP(Sheet1!C9,Sheet1!$V$5:$Y$37,4,0)))&\",\")),\"ERR\")","v":""},{"$f":"IF(D11,IF(C13=\"\",\"OR(AND(\",\"1),\"&D12&\"),\"),IF(D8,IF(C10=\"\",\"AND(\",\"1)\"),\",\"))","v":"OR(AND("},{"$f":"IFERROR(IF(Sheet1!E10=\"\",\"\",IF(Sheet1!E10=LINK,\"1,\",IF(Sheet1!E10=CHKON,VLOOKUP(Sheet1!E9,Sheet1!$V$5:$Y$37,4,0),NOT(VLOOKUP(Sheet1!E9,Sheet1!$V$5:$Y$37,4,0)))&\",\")),\"ERR\")","v":"FALSE,"},{"$f":"IF(F11,IF(E13=\"\",\"OR(AND(\",\"1),\"&F12&\"),\"),IF(F8,IF(E10=\"\",\"AND(\",\"1)\"),\",\"))","v":"1),AND(FALSE,1)),"},{"$f":"IFERROR(IF(Sheet1!G10=\"\",\"\",IF(Sheet1!G10=LINK,\"1,\",IF(Sheet1!G10=CHKON,VLOOKUP(Sheet1!G9,Sheet1!$V$5:$Y$37,4,0),NOT(VLOOKUP(Sheet1!G9,Sheet1!$V$5:$Y$37,4,0)))&\",\")),\"ERR\")","v":""},{"$f":"IF(H11,IF(G13=\"\",\"OR(AND(\",\"1),\"&H12&\"),\"),IF(H8,IF(G10=\"\",\"AND(\",\"1)\"),\",\"))","v":","},{"$f":"IFERROR(IF(Sheet1!I10=\"\",\"\",IF(Sheet1!I10=LINK,\"1,\",IF(Sheet1!I10=CHKON,VLOOKUP(Sheet1!I9,Sheet1!$V$5:$Y$37,4,0),NOT(VLOOKUP(Sheet1!I9,Sheet1!$V$5:$Y$37,4,0)))&\",\")),\"ERR\")","v":""},{"$f":"IF(J11,IF(I13=\"\",\"OR(AND(\",\"1),\"&J12&\"),\"),IF(J8,IF(I10=\"\",\"AND(\",\"1)\"),\",\"))","v":","},{"$f":"IFERROR(IF(Sheet1!K10=\"\",\"\",IF(Sheet1!K10=LINK,\"1,\",IF(Sheet1!K10=CHKON,VLOOKUP(Sheet1!K9,Sheet1!$V$5:$Y$37,4,0),NOT(VLOOKUP(Sheet1!K9,Sheet1!$V$5:$Y$37,4,0)))&\",\")),\"ERR\")","v":""},{"$f":"IF(L11,IF(K13=\"\",\"OR(AND(\",\"1),\"&L12&\"),\"),IF(L8,IF(K10=\"\",\"AND(\",\"1)\"),\",\"))","v":","},{"$f":"IFERROR(IF(Sheet1!M10=\"\",\"\",IF(Sheet1!M10=LINK,\"1,\",IF(Sheet1!M10=CHKON,VLOOKUP(Sheet1!M9,Sheet1!$V$5:$Y$37,4,0),NOT(VLOOKUP(Sheet1!M9,Sheet1!$V$5:$Y$37,4,0)))&\",\")),\"ERR\")","v":""},{"$f":"IF(N11,IF(M13=\"\",\"OR(AND(\",\"1),\"&N12&\"),\"),IF(N8,IF(M10=\"\",\"AND(\",\"1)\"),\",\"))","v":","},{"$f":"IFERROR(IF(Sheet1!O10=\"\",\"\",IF(Sheet1!O10=LINK,\"1,\",IF(Sheet1!O10=CHKON,VLOOKUP(Sheet1!O9,Sheet1!$V$5:$Y$37,4,0),NOT(VLOOKUP(Sheet1!O9,Sheet1!$V$5:$Y$37,4,0)))&\",\")),\"ERR\")","v":""},{"$f":"IF(P11,IF(O13=\"\",\"OR(AND(\",\"1),\"&P12&\"),\"),IF(P8,IF(O10=\"\",\"AND(\",\"1)\"),\",\"))","v":","},{"$f":"IFERROR(IF(Sheet1!Q10=\"\",\"\",IF(Sheet1!Q10=LINK,\"1\",IF(Sheet1!Q10=CHKON,VLOOKUP(Sheet1!Q9,Sheet1!$V$5:$Y$37,4,0),NOT(VLOOKUP(Sheet1!Q9,Sheet1!$V$5:$Y$37,4,0))))),\"ERR\")","v":""},{"$f":"IF(Q9=\"\",\"\",\"IFERROR(\"&Q9&$S$2)","v":""},0]
[null,true,null,{"$f":"Sheet1!D11=VLINK","v":true},null,{"$f":"Sheet1!F11=VLINK","v":true},null,{"$f":"Sheet1!H11=VLINK","v":false},null,{"$f":"Sheet1!J11=VLINK","v":false},null,{"$f":"Sheet1!L11=VLINK","v":false},null,{"$f":"Sheet1!N11=VLINK","v":false},null,{"$f":"Sheet1!P11=VLINK","v":false}]
[null,null,{"$f":"IF(C13=\"\",\"\",\"AND(\"&C13)","v":""},{"$f":"IF(D13=\"\",\"\",C12&IF(D13=\",\",\"\",D13))","v":"AND("},{"$f":"IF(E13=\"\",\"\",D12&IF(E13=\",\",\"\",E13))","v":"AND(FALSE,"},{"$f":"IF(F13=\"\",\"\",E12&IF(F13=\",\",\"\",F13))","v":"AND(FALSE,1)"},{"$f":"IF(G13=\"\",\"\",F12&IF(G13=\",\",\"\",G13))","v":""},{"$f":"IF(H13=\"\",\"\",G12&IF(H13=\",\",\"\",H13))","v":""},{"$f":"IF(I13=\"\",\"\",H12&IF(I13=\",\",\"\",I13))","v":""},{"$f":"IF(J13=\"\",\"\",I12&IF(J13=\",\",\"\",J13))","v":""},{"$f":"IF(K13=\"\",\"\",J12&IF(K13=\",\",\"\",K13))","v":""},{"$f":"IF(L13=\"\",\"\",K12&IF(L13=\",\",\"\",L13))","v":""},{"$f":"IF(M13=\"\",\"\",L12&IF(M13=\",\",\"\",M13))","v":""},{"$f":"IF(N13=\"\",\"\",M12&IF(N13=\",\",\"\",N13))","v":""},{"$f":"IF(O13=\"\",\"\",N12&IF(O13=\",\",\"\",O13))","v":""},{"$f":"IF(P13=\"\",\"\",O12&IF(P13=\",\",\"\",P13))","v":""},{"$f":"IF(Q13=\"\",\"\",P12&IF(Q13=\",\",\"\",Q13))","v":""},{"$f":"IF(Q13=\"\",\"\",Q12&R13)","v":""},{"$f":"IF(Sheet1!S12=\"\",\"\",Sheet1!S12)","v":""}]
[null,null,{"$f":"IFERROR(IF(Sheet1!C13=\"\",\"\",IF(Sheet1!C13=LINK,\"1,\",IF(Sheet1!C13=CHKON,VLOOKUP(Sheet1!C12,Sheet1!$V$5:$Y$37,4,0),NOT(VLOOKUP(Sheet1!C12,Sheet1!$V$5:$Y$37,4,0)))&\",\")),\"ERR\")","v":""},{"$f":"IF(D14,IF(C16=\"\",\"OR(AND(\",\"1),\"&D15&\"),\"),IF(D11,IF(C13=\"\",\"AND(\",\"1)\"),\",\"))","v":"AND("},{"$f":"IFERROR(IF(Sheet1!E13=\"\",\"\",IF(Sheet1!E13=LINK,\"1,\",IF(Sheet1!E13=CHKON,VLOOKUP(Sheet1!E12,Sheet1!$V$5:$Y$37,4,0),NOT(VLOOKUP(Sheet1!E12,Sheet1!$V$5:$Y$37,4,0)))&\",\")),\"ERR\")","v":"FALSE,"},{"$f":"IF(F14,IF(E16=\"\",\"OR(AND(\",\"1),\"&F15&\"),\"),IF(F11,IF(E13=\"\",\"AND(\",\"1)\"),\",\"))","v":"1)"},{"$f":"IFERROR(IF(Sheet1!G13=\"\",\"\",IF(Sheet1!G13=LINK,\"1,\",IF(Sheet1!G13=CHKON,VLOOKUP(Sheet1!G12,Sheet1!$V$5:$Y$37,4,0),NOT(VLOOKUP(Sheet1!G12,Sheet1!$V$5:$Y$37,4,0)))&\",\")),\"ERR\")","v":""},{"$f":"IF(H14,IF(G16=\"\",\"OR(AND(\",\"1),\"&H15&\"),\"),IF(H11,IF(G13=\"\",\"AND(\",\"1)\"),\",\"))","v":","},{"$f":"IFERROR(IF(Sheet1!I13=\"\",\"\",IF(Sheet1!I13=LINK,\"1,\",IF(Sheet1!I13=CHKON,VLOOKUP(Sheet1!I12,Sheet1!$V$5:$Y$37,4,0),NOT(VLOOKUP(Sheet1!I12,Sheet1!$V$5:$Y$37,4,0)))&\",\")),\"ERR\")","v":""},{"$f":"IF(J14,IF(I16=\"\",\"OR(AND(\",\"1),\"&J15&\"),\"),IF(J11,IF(I13=\"\",\"AND(\",\"1)\"),\",\"))","v":","},{"$f":"IFERROR(IF(Sheet1!K13=\"\",\"\",IF(Sheet1!K13=LINK,\"1,\",IF(Sheet1!K13=CHKON,VLOOKUP(Sheet1!K12,Sheet1!$V$5:$Y$37,4,0),NOT(VLOOKUP(Sheet1!K12,Sheet1!$V$5:$Y$37,4,0)))&\",\")),\"ERR\")","v":""},{"$f":"IF(L14,IF(K16=\"\",\"OR(AND(\",\"1),\"&L15&\"),\"),IF(L11,IF(K13=\"\",\"AND(\",\"1)\"),\",\"))","v":","},{"$f":"IFERROR(IF(Sheet1!M13=\"\",\"\",IF(Sheet1!M13=LINK,\"1,\",IF(Sheet1!M13=CHKON,VLOOKUP(Sheet1!M12,Sheet1!$V$5:$Y$37,4,0),NOT(VLOOKUP(Sheet1!M12,Sheet1!$V$5:$Y$37,4,0)))&\",\")),\"ERR\")","v":""},{"$f":"IF(N14,IF(M16=\"\",\"OR(AND(\",\"1),\"&N15&\"),\"),IF(N11,IF(M13=\"\",\"AND(\",\"1)\"),\",\"))","v":","},{"$f":"IFERROR(IF(Sheet1!O13=\"\",\"\",IF(Sheet1!O13=LINK,\"1,\",IF(Sheet1!O13=CHKON,VLOOKUP(Sheet1!O12,Sheet1!$V$5:$Y$37,4,0),NOT(VLOOKUP(Sheet1!O12,Sheet1!$V$5:$Y$37,4,0)))&\",\")),\"ERR\")","v":""},{"$f":"IF(P14,IF(O16=\"\",\"OR(AND(\",\"1),\"&P15&\"),\"),IF(P11,IF(O13=\"\",\"AND(\",\"1)\"),\",\"))","v":","},{"$f":"IFERROR(IF(Sheet1!Q13=\"\",\"\",IF(Sheet1!Q13=LINK,\"1\",IF(Sheet1!Q13=CHKON,VLOOKUP(Sheet1!Q12,Sheet1!$V$5:$Y$37,4,0),NOT(VLOOKUP(Sheet1!Q12,Sheet1!$V$5:$Y$37,4,0))))),\"ERR\")","v":""},{"$f":"IF(Q12=\"\",\"\",\"IFERROR(\"&Q12&$S$2)","v":""},0]
[null,true,null,{"$f":"Sheet1!D14=VLINK","v":false},null,{"$f":"Sheet1!F14=VLINK","v":false},null,{"$f":"Sheet1!H14=VLINK","v":false},null,{"$f":"Sheet1!J14=VLINK","v":false},null,{"$f":"Sheet1!L14=VLINK","v":false},null,{"$f":"Sheet1!N14=VLINK","v":false},null,{"$f":"Sheet1!P14=VLINK","v":false}]
[null,null,{"$f":"IF(C16=\"\",\"\",\"AND(\"&C16)","v":""},{"$f":"IF(D16=\"\",\"\",C15&IF(D16=\",\",\"\",D16))","v":""},{"$f":"IF(E16=\"\",\"\",D15&IF(E16=\",\",\"\",E16))","v":""},{"$f":"IF(F16=\"\",\"\",E15&IF(F16=\",\",\"\",F16))","v":""},{"$f":"IF(G16=\"\",\"\",F15&IF(G16=\",\",\"\",G16))","v":""},{"$f":"IF(H16=\"\",\"\",G15&IF(H16=\",\",\"\",H16))","v":""},{"$f":"IF(I16=\"\",\"\",H15&IF(I16=\",\",\"\",I16))","v":""},{"$f":"IF(J16=\"\",\"\",I15&IF(J16=\",\",\"\",J16))","v":""},{"$f":"IF(K16=\"\",\"\",J15&IF(K16=\",\",\"\",K16))","v":""},{"$f":"IF(L16=\"\",\"\",K15&IF(L16=\",\",\"\",L16))","v":""},{"$f":"IF(M16=\"\",\"\",L15&IF(M16=\",\",\"\",M16))","v":""},{"$f":"IF(N16=\"\",\"\",M15&IF(N16=\",\",\"\",N16))","v":""},{"$f":"IF(O16=\"\",\"\",N15&IF(O16=\",\",\"\",O16))","v":""},{"$f":"IF(P16=\"\",\"\",O15&IF(P16=\",\",\"\",P16))","v":""},{"$f":"IF(Q16=\"\",\"\",P15&IF(Q16=\",\",\"\",Q16))","v":""},null,{"$f":"IF(Sheet1!S15=\"\",\"\",Sheet1!S15)","v":""}]
[null,null,{"$f":"IFERROR(IF(Sheet1!C16=\"\",\"\",IF(Sheet1!C16=LINK,\"1,\",IF(Sheet1!C16=CHKON,VLOOKUP(Sheet1!C15,Sheet1!$V$5:$Y$37,4,0),NOT(VLOOKUP(Sheet1!C15,Sheet1!$V$5:$Y$37,4,0)))&\",\")),\"ERR\")","v":""},{"$f":"IF(D17,IF(C19=\"\",\"OR(AND(\",\"1),\"&D18&\"),\"),IF(D14,IF(C16=\"\",\"AND(\",\"1)\"),\",\"))","v":","},{"$f":"IFERROR(IF(Sheet1!E16=\"\",\"\",IF(Sheet1!E16=LINK,\"1,\",IF(Sheet1!E16=CHKON,VLOOKUP(Sheet1!E15,Sheet1!$V$5:$Y$37,4,0),NOT(VLOOKUP(Sheet1!E15,Sheet1!$V$5:$Y$37,4,0)))&\",\")),\"ERR\")","v":""},{"$f":"IF(F17,IF(E19=\"\",\"OR(AND(\",\"1),\"&F18&\"),\"),IF(F14,IF(E16=\"\",\"AND(\",\"1)\"),\",\"))","v":","},{"$f":"IFERROR(IF(Sheet1!G16=\"\",\"\",IF(Sheet1!G16=LINK,\"1,\",IF(Sheet1!G16=CHKON,VLOOKUP(Sheet1!G15,Sheet1!$V$5:$Y$37,4,0),NOT(VLOOKUP(Sheet1!G15,Sheet1!$V$5:$Y$37,4,0)))&\",\")),\"ERR\")","v":""},{"$f":"IF(H17,IF(G19=\"\",\"OR(AND(\",\"1),\"&H18&\"),\"),IF(H14,IF(G16=\"\",\"AND(\",\"1)\"),\",\"))","v":","},{"$f":"IFERROR(IF(Sheet1!I16=\"\",\"\",IF(Sheet1!I16=LINK,\"1,\",IF(Sheet1!I16=CHKON,VLOOKUP(Sheet1!I15,Sheet1!$V$5:$Y$37,4,0),NOT(VLOOKUP(Sheet1!I15,Sheet1!$V$5:$Y$37,4,0)))&\",\")),\"ERR\")","v":""},{"$f":"IF(J17,IF(I19=\"\",\"OR(AND(\",\"1),\"&J18&\"),\"),IF(J14,IF(I16=\"\",\"AND(\",\"1)\"),\",\"))","v":","},{"$f":"IFERROR(IF(Sheet1!K16=\"\",\"\",IF(Sheet1!K16=LINK,\"1,\",IF(Sheet1!K16=CHKON,VLOOKUP(Sheet1!K15,Sheet1!$V$5:$Y$37,4,0),NOT(VLOOKUP(Sheet1!K15,Sheet1!$V$5:$Y$37,4,0)))&\",\")),\"ERR\")","v":""},{"$f":"IF(L17,IF(K19=\"\",\"OR(AND(\",\"1),\"&L18&\"),\"),IF(L14,IF(K16=\"\",\"AND(\",\"1)\"),\",\"))","v":","},{"$f":"IFERROR(IF(Sheet1!M16=\"\",\"\",IF(Sheet1!M16=LINK,\"1,\",IF(Sheet1!M16=CHKON,VLOOKUP(Sheet1!M15,Sheet1!$V$5:$Y$37,4,0),NOT(VLOOKUP(Sheet1!M15,Sheet1!$V$5:$Y$37,4,0)))&\",\")),\"ERR\")","v":""},{"$f":"IF(N17,IF(M19=\"\",\"OR(AND(\",\"1),\"&N18&\"),\"),IF(N14,IF(M16=\"\",\"AND(\",\"1)\"),\",\"))","v":","},{"$f":"IFERROR(IF(Sheet1!O16=\"\",\"\",IF(Sheet1!O16=LINK,\"1,\",IF(Sheet1!O16=CHKON,VLOOKUP(Sheet1!O15,Sheet1!$V$5:$Y$37,4,0),NOT(VLOOKUP(Sheet1!O15,Sheet1!$V$5:$Y$37,4,0)))&\",\")),\"ERR\")","v":""},{"$f":"IF(P17,IF(O19=\"\",\"OR(AND(\",\"1),\"&P18&\"),\"),IF(P14,IF(O16=\"\",\"AND(\",\"1)\"),\",\"))","v":","},{"$f":"IFERROR(IF(Sheet1!Q16=\"\",\"\",IF(Sheet1!Q16=LINK,\"1\",IF(Sheet1!Q16=CHKON,VLOOKUP(Sheet1!Q15,Sheet1!$V$5:$Y$37,4,0),NOT(VLOOKUP(Sheet1!Q15,Sheet1!$V$5:$Y$37,4,0))))),\"ERR\")","v":""},{"$f":"IF(Q15=\"\",\"\",\"IFERROR(\"&Q15&$S$2)","v":""},0]
[null,true,null,{"$f":"Sheet1!D17=VLINK","v":false},null,{"$f":"Sheet1!F17=VLINK","v":false},null,{"$f":"Sheet1!H17=VLINK","v":false},null,{"$f":"Sheet1!J17=VLINK","v":false},null,{"$f":"Sheet1!L17=VLINK","v":false},null,{"$f":"Sheet1!N17=VLINK","v":false},null,{"$f":"Sheet1!P17=VLINK","v":false}]
[null,null,{"$f":"IF(C19=\"\",\"\",\"AND(\"&C19)","v":""},{"$f":"IF(D19=\"\",\"\",C18&IF(D19=\",\",\"\",D19))","v":""},{"$f":"IF(E19=\"\",\"\",D18&IF(E19=\",\",\"\",E19))","v":""},{"$f":"IF(F19=\"\",\"\",E18&IF(F19=\",\",\"\",F19))","v":""},{"$f":"IF(G19=\"\",\"\",F18&IF(G19=\",\",\"\",G19))","v":""},{"$f":"IF(H19=\"\",\"\",G18&IF(H19=\",\",\"\",H19))","v":""},{"$f":"IF(I19=\"\",\"\",H18&IF(I19=\",\",\"\",I19))","v":""},{"$f":"IF(J19=\"\",\"\",I18&IF(J19=\",\",\"\",J19))","v":""},{"$f":"IF(K19=\"\",\"\",J18&IF(K19=\",\",\"\",K19))","v":""},{"$f":"IF(L19=\"\",\"\",K18&IF(L19=\",\",\"\",L19))","v":""},{"$f":"IF(M19=\"\",\"\",L18&IF(M19=\",\",\"\",M19))","v":""},{"$f":"IF(N19=\"\",\"\",M18&IF(N19=\",\",\"\",N19))","v":""},{"$f":"IF(O19=\"\",\"\",N18&IF(O19=\",\",\"\",O19))","v":""},{"$f":"IF(P19=\"\",\"\",O18&IF(P19=\",\",\"\",P19))","v":""},{"$f":"IF(Q19=\"\",\"\",P18&IF(Q19=\",\",\"\",Q19))","v":""},null,{"$f":"IF(Sheet1!S18=\"\",\"\",Sheet1!S18)","v":""}]
[null,null,{"$f":"IFERROR(IF(Sheet1!C19=\"\",\"\",IF(Sheet1!C19=LINK,\"1,\",IF(Sheet1!C19=CHKON,VLOOKUP(Sheet1!C18,Sheet1!$V$5:$Y$37,4,0),NOT(VLOOKUP(Sheet1!C18,Sheet1!$V$5:$Y$37,4,0)))&\",\")),\"ERR\")","v":""},{"$f":"IF(D20,IF(C22=\"\",\"OR(AND(\",\"1),\"&D21&\"),\"),IF(D17,IF(C19=\"\",\"AND(\",\"1)\"),\",\"))","v":","},{"$f":"IFERROR(IF(Sheet1!E19=\"\",\"\",IF(Sheet1!E19=LINK,\"1,\",IF(Sheet1!E19=CHKON,VLOOKUP(Sheet1!E18,Sheet1!$V$5:$Y$37,4,0),NOT(VLOOKUP(Sheet1!E18,Sheet1!$V$5:$Y$37,4,0)))&\",\")),\"ERR\")","v":""},{"$f":"IF(F20,IF(E22=\"\",\"OR(AND(\",\"1),\"&F21&\"),\"),IF(F17,IF(E19=\"\",\"AND(\",\"1)\"),\",\"))","v":","},{"$f":"IFERROR(IF(Sheet1!G19=\"\",\"\",IF(Sheet1!G19=LINK,\"1,\",IF(Sheet1!G19=CHKON,VLOOKUP(Sheet1!G18,Sheet1!$V$5:$Y$37,4,0),NOT(VLOOKUP(Sheet1!G18,Sheet1!$V$5:$Y$37,4,0)))&\",\")),\"ERR\")","v":""},{"$f":"IF(H20,IF(G22=\"\",\"OR(AND(\",\"1),\"&H21&\"),\"),IF(H17,IF(G19=\"\",\"AND(\",\"1)\"),\",\"))","v":","},{"$f":"IFERROR(IF(Sheet1!I19=\"\",\"\",IF(Sheet1!I19=LINK,\"1,\",IF(Sheet1!I19=CHKON,VLOOKUP(Sheet1!I18,Sheet1!$V$5:$Y$37,4,0),NOT(VLOOKUP(Sheet1!I18,Sheet1!$V$5:$Y$37,4,0)))&\",\")),\"ERR\")","v":""},{"$f":"IF(J20,IF(I22=\"\",\"OR(AND(\",\"1),\"&J21&\"),\"),IF(J17,IF(I19=\"\",\"AND(\",\"1)\"),\",\"))","v":","},{"$f":"IFERROR(IF(Sheet1!K19=\"\",\"\",IF(Sheet1!K19=LINK,\"1,\",IF(Sheet1!K19=CHKON,VLOOKUP(Sheet1!K18,Sheet1!$V$5:$Y$37,4,0),NOT(VLOOKUP(Sheet1!K18,Sheet1!$V$5:$Y$37,4,0)))&\",\")),\"ERR\")","v":""},{"$f":"IF(L20,IF(K22=\"\",\"OR(AND(\",\"1),\"&L21&\"),\"),IF(L17,IF(K19=\"\",\"AND(\",\"1)\"),\",\"))","v":","},{"$f":"IFERROR(IF(Sheet1!M19=\"\",\"\",IF(Sheet1!M19=LINK,\"1,\",IF(Sheet1!M19=CHKON,VLOOKUP(Sheet1!M18,Sheet1!$V$5:$Y$37,4,0),NOT(VLOOKUP(Sheet1!M18,Sheet1!$V$5:$Y$37,4,0)))&\",\")),\"ERR\")","v":""},{"$f":"IF(N20,IF(M22=\"\",\"OR(AND(\",\"1),\"&N21&\"),\"),IF(N17,IF(M19=\"\",\"AND(\",\"1)\"),\",\"))","v":","},{"$f":"IFERROR(IF(Sheet1!O19=\"\",\"\",IF(Sheet1!O19=LINK,\"1,\",IF(Sheet1!O19=CHKON,VLOOKUP(Sheet1!O18,Sheet1!$V$5:$Y$37,4,0),NOT(VLOOKUP(Sheet1!O18,Sheet1!$V$5:$Y$37,4,0)))&\",\")),\"ERR\")","v":""},{"$f":"IF(P20,IF(O22=\"\",\"OR(AND(\",\"1),\"&P21&\"),\"),IF(P17,IF(O19=\"\",\"AND(\",\"1)\"),\",\"))","v":","},{"$f":"IFERROR(IF(Sheet1!Q19=\"\",\"\",IF(Sheet1!Q19=LINK,\"1\",IF(Sheet1!Q19=CHKON,VLOOKUP(Sheet1!Q18,Sheet1!$V$5:$Y$37,4,0),NOT(VLOOKUP(Sheet1!Q18,Sheet1!$V$5:$Y$37,4,0))))),\"ERR\")","v":""},{"$f":"IF(Q18=\"\",\"\",\"IFERROR(\"&Q18&$S$2)","v":""},0]
[null,true,null,{"$f":"Sheet1!D20=VLINK","v":false},null,{"$f":"Sheet1!F20=VLINK","v":false},null,{"$f":"Sheet1!H20=VLINK","v":false},null,{"$f":"Sheet1!J20=VLINK","v":false},null,{"$f":"Sheet1!L20=VLINK","v":false},null,{"$f":"Sheet1!N20=VLINK","v":false},null,{"$f":"Sheet1!P20=VLINK","v":false}]
[null,null,{"$f":"IF(C22=\"\",\"\",\"AND(\"&C22)","v":""},{"$f":"IF(D22=\"\",\"\",C21&IF(D22=\",\",\"\",D22))","v":""},{"$f":"IF(E22=\"\",\"\",D21&IF(E22=\",\",\"\",E22))","v":""},{"$f":"IF(F22=\"\",\"\",E21&IF(F22=\",\",\"\",F22))","v":""},{"$f":"IF(G22=\"\",\"\",F21&IF(G22=\",\",\"\",G22))","v":""},{"$f":"IF(H22=\"\",\"\",G21&IF(H22=\",\",\"\",H22))","v":""},{"$f":"IF(I22=\"\",\"\",H21&IF(I22=\",\",\"\",I22))","v":""},{"$f":"IF(J22=\"\",\"\",I21&IF(J22=\",\",\"\",J22))","v":""},{"$f":"IF(K22=\"\",\"\",J21&IF(K22=\",\",\"\",K22))","v":""},{"$f":"IF(L22=\"\",\"\",K21&IF(L22=\",\",\"\",L22))","v":""},{"$f":"IF(M22=\"\",\"\",L21&IF(M22=\",\",\"\",M22))","v":""},{"$f":"IF(N22=\"\",\"\",M21&IF(N22=\",\",\"\",N22))","v":""},{"$f":"IF(O22=\"\",\"\",N21&IF(O22=\",\",\"\",O22))","v":""},{"$f":"IF(P22=\"\",\"\",O21&IF(P22=\",\",\"\",P22))","v":""},{"$f":"IF(Q22=\"\",\"\",P21&IF(Q22=\",\",\"\",Q22))","v":""},{"$f":"IF(Q22=\"\",\"\",Q21&R22)","v":""},{"$f":"IF(Sheet1!S21=\"\",\"\",Sheet1!S21)","v":""}]
[null,null,{"$f":"IFERROR(IF(Sheet1!C22=\"\",\"\",IF(Sheet1!C22=LINK,\"1,\",IF(Sheet1!C22=CHKON,VLOOKUP(Sheet1!C21,Sheet1!$V$5:$Y$37,4,0),NOT(VLOOKUP(Sheet1!C21,Sheet1!$V$5:$Y$37,4,0)))&\",\")),\"ERR\")","v":""},{"$f":"IF(D23,IF(C25=\"\",\"OR(AND(\",\"1),\"&D24&\"),\"),IF(D20,IF(C22=\"\",\"AND(\",\"1)\"),\",\"))","v":","},{"$f":"IFERROR(IF(Sheet1!E22=\"\",\"\",IF(Sheet1!E22=LINK,\"1,\",IF(Sheet1!E22=CHKON,VLOOKUP(Sheet1!E21,Sheet1!$V$5:$Y$37,4,0),NOT(VLOOKUP(Sheet1!E21,Sheet1!$V$5:$Y$37,4,0)))&\",\")),\"ERR\")","v":""},{"$f":"IF(F23,IF(E25=\"\",\"OR(AND(\",\"1),\"&F24&\"),\"),IF(F20,IF(E22=\"\",\"AND(\",\"1)\"),\",\"))","v":","},{"$f":"IFERROR(IF(Sheet1!G22=\"\",\"\",IF(Sheet1!G22=LINK,\"1,\",IF(Sheet1!G22=CHKON,VLOOKUP(Sheet1!G21,Sheet1!$V$5:$Y$37,4,0),NOT(VLOOKUP(Sheet1!G21,Sheet1!$V$5:$Y$37,4,0)))&\",\")),\"ERR\")","v":""},{"$f":"IF(H23,IF(G25=\"\",\"OR(AND(\",\"1),\"&H24&\"),\"),IF(H20,IF(G22=\"\",\"AND(\",\"1)\"),\",\"))","v":","},{"$f":"IFERROR(IF(Sheet1!I22=\"\",\"\",IF(Sheet1!I22=LINK,\"1,\",IF(Sheet1!I22=CHKON,VLOOKUP(Sheet1!I21,Sheet1!$V$5:$Y$37,4,0),NOT(VLOOKUP(Sheet1!I21,Sheet1!$V$5:$Y$37,4,0)))&\",\")),\"ERR\")","v":""},{"$f":"IF(J23,IF(I25=\"\",\"OR(AND(\",\"1),\"&J24&\"),\"),IF(J20,IF(I22=\"\",\"AND(\",\"1)\"),\",\"))","v":","},{"$f":"IFERROR(IF(Sheet1!K22=\"\",\"\",IF(Sheet1!K22=LINK,\"1,\",IF(Sheet1!K22=CHKON,VLOOKUP(Sheet1!K21,Sheet1!$V$5:$Y$37,4,0),NOT(VLOOKUP(Sheet1!K21,Sheet1!$V$5:$Y$37,4,0)))&\",\")),\"ERR\")","v":""},{"$f":"IF(L23,IF(K25=\"\",\"OR(AND(\",\"1),\"&L24&\"),\"),IF(L20,IF(K22=\"\",\"AND(\",\"1)\"),\",\"))","v":","},{"$f":"IFERROR(IF(Sheet1!M22=\"\",\"\",IF(Sheet1!M22=LINK,\"1,\",IF(Sheet1!M22=CHKON,VLOOKUP(Sheet1!M21,Sheet1!$V$5:$Y$37,4,0),NOT(VLOOKUP(Sheet1!M21,Sheet1!$V$5:$Y$37,4,0)))&\",\")),\"ERR\")","v":""},{"$f":"IF(N23,IF(M25=\"\",\"OR(AND(\",\"1),\"&N24&\"),\"),IF(N20,IF(M22=\"\",\"AND(\",\"1)\"),\",\"))","v":","},{"$f":"IFERROR(IF(Sheet1!O22=\"\",\"\",IF(Sheet1!O22=LINK,\"1,\",IF(Sheet1!O22=CHKON,VLOOKUP(Sheet1!O21,Sheet1!$V$5:$Y$37,4,0),NOT(VLOOKUP(Sheet1!O21,Sheet1!$V$5:$Y$37,4,0)))&\",\")),\"ERR\")","v":""},{"$f":"IF(P23,IF(O25=\"\",\"OR(AND(\",\"1),\"&P24&\"),\"),IF(P20,IF(O22=\"\",\"AND(\",\"1)\"),\",\"))","v":","},{"$f":"IFERROR(IF(Sheet1!Q22=\"\",\"\",IF(Sheet1!Q22=LINK,\"1\",IF(Sheet1!Q22=CHKON,VLOOKUP(Sheet1!Q21,Sheet1!$V$5:$Y$37,4,0),NOT(VLOOKUP(Sheet1!Q21,Sheet1!$V$5:$Y$37,4,0))))),\"ERR\")","v":""},{"$f":"IF(Q21=\"\",\"\",\"IFERROR(\"&Q21&$S$2)","v":""},0]
[null,true,null,{"$f":"Sheet1!D23=VLINK","v":false},null,{"$f":"Sheet1!F23=VLINK","v":false},null,{"$f":"Sheet1!H23=VLINK","v":false},null,{"$f":"Sheet1!J23=VLINK","v":false},null,{"$f":"Sheet1!L23=VLINK","v":false},null,{"$f":"Sheet1!N23=VLINK","v":false},null,{"$f":"Sheet1!P23=VLINK","v":false}]
[null,null,{"$f":"IF(C25=\"\",\"\",\"AND(\"&C25)","v":""},{"$f":"IF(D25=\"\",\"\",C24&IF(D25=\",\",\"\",D25))","v":""},{"$f":"IF(E25=\"\",\"\",D24&IF(E25=\",\",\"\",E25))","v":""},{"$f":"IF(F25=\"\",\"\",E24&IF(F25=\",\",\"\",F25))","v":""},{"$f":"IF(G25=\"\",\"\",F24&IF(G25=\",\",\"\",G25))","v":""},{"$f":"IF(H25=\"\",\"\",G24&IF(H25=\",\",\"\",H25))","v":""},{"$f":"IF(I25=\"\",\"\",H24&IF(I25=\",\",\"\",I25))","v":""},{"$f":"IF(J25=\"\",\"\",I24&IF(J25=\",\",\"\",J25))","v":""},{"$f":"IF(K25=\"\",\"\",J24&IF(K25=\",\",\"\",K25))","v":""},{"$f":"IF(L25=\"\",\"\",K24&IF(L25=\",\",\"\",L25))","v":""},{"$f":"IF(M25=\"\",\"\",L24&IF(M25=\",\",\"\",M25))","v":""},{"$f":"IF(N25=\"\",\"\",M24&IF(N25=\",\",\"\",N25))","v":""},{"$f":"IF(O25=\"\",\"\",N24&IF(O25=\",\",\"\",O25))","v":""},{"$f":"IF(P25=\"\",\"\",O24&IF(P25=\",\",\"\",P25))","v":""},{"$f":"IF(Q25=\"\",\"\",P24&IF(Q25=\",\",\"\",Q25))","v":""},null,{"$f":"IF(Sheet1!S24=\"\",\"\",Sheet1!S24)","v":""}]
[null,null,{"$f":"IFERROR(IF(Sheet1!C25=\"\",\"\",IF(Sheet1!C25=LINK,\"1,\",IF(Sheet1!C25=CHKON,VLOOKUP(Sheet1!C24,Sheet1!$V$5:$Y$37,4,0),NOT(VLOOKUP(Sheet1!C24,Sheet1!$V$5:$Y$37,4,0)))&\",\")),\"ERR\")","v":""},{"$f":"IF(D26,IF(C28=\"\",\"OR(AND(\",\"1),\"&D27&\"),\"),IF(D23,IF(C25=\"\",\"AND(\",\"1)\"),\",\"))","v":","},{"$f":"IFERROR(IF(Sheet1!E25=\"\",\"\",IF(Sheet1!E25=LINK,\"1,\",IF(Sheet1!E25=CHKON,VLOOKUP(Sheet1!E24,Sheet1!$V$5:$Y$37,4,0),NOT(VLOOKUP(Sheet1!E24,Sheet1!$V$5:$Y$37,4,0)))&\",\")),\"ERR\")","v":""},{"$f":"IF(F26,IF(E28=\"\",\"OR(AND(\",\"1),\"&F27&\"),\"),IF(F23,IF(E25=\"\",\"AND(\",\"1)\"),\",\"))","v":","},{"$f":"IFERROR(IF(Sheet1!G25=\"\",\"\",IF(Sheet1!G25=LINK,\"1,\",IF(Sheet1!G25=CHKON,VLOOKUP(Sheet1!G24,Sheet1!$V$5:$Y$37,4,0),NOT(VLOOKUP(Sheet1!G24,Sheet1!$V$5:$Y$37,4,0)))&\",\")),\"ERR\")","v":""},{"$f":"IF(H26,IF(G28=\"\",\"OR(AND(\",\"1),\"&H27&\"),\"),IF(H23,IF(G25=\"\",\"AND(\",\"1)\"),\",\"))","v":","},{"$f":"IFERROR(IF(Sheet1!I25=\"\",\"\",IF(Sheet1!I25=LINK,\"1,\",IF(Sheet1!I25=CHKON,VLOOKUP(Sheet1!I24,Sheet1!$V$5:$Y$37,4,0),NOT(VLOOKUP(Sheet1!I24,Sheet1!$V$5:$Y$37,4,0)))&\",\")),\"ERR\")","v":""},{"$f":"IF(J26,IF(I28=\"\",\"OR(AND(\",\"1),\"&J27&\"),\"),IF(J23,IF(I25=\"\",\"AND(\",\"1)\"),\",\"))","v":","},{"$f":"IFERROR(IF(Sheet1!K25=\"\",\"\",IF(Sheet1!K25=LINK,\"1,\",IF(Sheet1!K25=CHKON,VLOOKUP(Sheet1!K24,Sheet1!$V$5:$Y$37,4,0),NOT(VLOOKUP(Sheet1!K24,Sheet1!$V$5:$Y$37,4,0)))&\",\")),\"ERR\")","v":""},{"$f":"IF(L26,IF(K28=\"\",\"OR(AND(\",\"1),\"&L27&\"),\"),IF(L23,IF(K25=\"\",\"AND(\",\"1)\"),\",\"))","v":","},{"$f":"IFERROR(IF(Sheet1!M25=\"\",\"\",IF(Sheet1!M25=LINK,\"1,\",IF(Sheet1!M25=CHKON,VLOOKUP(Sheet1!M24,Sheet1!$V$5:$Y$37,4,0),NOT(VLOOKUP(Sheet1!M24,Sheet1!$V$5:$Y$37,4,0)))&\",\")),\"ERR\")","v":""},{"$f":"IF(N26,IF(M28=\"\",\"OR(AND(\",\"1),\"&N27&\"),\"),IF(N23,IF(M25=\"\",\"AND(\",\"1)\"),\",\"))","v":","},{"$f":"IFERROR(IF(Sheet1!O25=\"\",\"\",IF(Sheet1!O25=LINK,\"1,\",IF(Sheet1!O25=CHKON,VLOOKUP(Sheet1!O24,Sheet1!$V$5:$Y$37,4,0),NOT(VLOOKUP(Sheet1!O24,Sheet1!$V$5:$Y$37,4,0)))&\",\")),\"ERR\")","v":""},{"$f":"IF(P26,IF(O28=\"\",\"OR(AND(\",\"1),\"&P27&\"),\"),IF(P23,IF(O25=\"\",\"AND(\",\"1)\"),\",\"))","v":","},{"$f":"IFERROR(IF(Sheet1!Q25=\"\",\"\",IF(Sheet1!Q25=LINK,\"1\",IF(Sheet1!Q25=CHKON,VLOOKUP(Sheet1!Q24,Sheet1!$V$5:$Y$37,4,0),NOT(VLOOKUP(Sheet1!Q24,Sheet1!$V$5:$Y$37,4,0))))),\"ERR\")","v":""},{"$f":"IF(Q24=\"\",\"\",\"IFERROR(\"&Q24&$S$2)","v":""},0]
[null,true,null,{"$f":"Sheet1!D26=VLINK","v":false},null,{"$f":"Sheet1!F26=VLINK","v":false},null,{"$f":"Sheet1!H26=VLINK","v":false},null,{"$f":"Sheet1!J26=VLINK","v":false},null,{"$f":"Sheet1!L26=VLINK","v":false},null,{"$f":"Sheet1!N26=VLINK","v":false},null,{"$f":"Sheet1!P26=VLINK","v":false}]
[null,null,{"$f":"IF(C28=\"\",\"\",\"AND(\"&C28)","v":""},{"$f":"IF(D28=\"\",\"\",C27&IF(D28=\",\",\"\",D28))","v":""},{"$f":"IF(E28=\"\",\"\",D27&IF(E28=\",\",\"\",E28))","v":""},{"$f":"IF(F28=\"\",\"\",E27&IF(F28=\",\",\"\",F28))","v":""},{"$f":"IF(G28=\"\",\"\",F27&IF(G28=\",\",\"\",G28))","v":""},{"$f":"IF(H28=\"\",\"\",G27&IF(H28=\",\",\"\",H28))","v":""},{"$f":"IF(I28=\"\",\"\",H27&IF(I28=\",\",\"\",I28))","v":""},{"$f":"IF(J28=\"\",\"\",I27&IF(J28=\",\",\"\",J28))","v":""},{"$f":"IF(K28=\"\",\"\",J27&IF(K28=\",\",\"\",K28))","v":""},{"$f":"IF(L28=\"\",\"\",K27&IF(L28=\",\",\"\",L28))","v":""},{"$f":"IF(M28=\"\",\"\",L27&IF(M28=\",\",\"\",M28))","v":""},{"$f":"IF(N28=\"\",\"\",M27&IF(N28=\",\",\"\",N28))","v":""},{"$f":"IF(O28=\"\",\"\",N27&IF(O28=\",\",\"\",O28))","v":""},{"$f":"IF(P28=\"\",\"\",O27&IF(P28=\",\",\"\",P28))","v":""},{"$f":"IF(Q28=\"\",\"\",P27&IF(Q28=\",\",\"\",Q28))","v":""},null,{"$f":"IF(Sheet1!S27=\"\",\"\",Sheet1!S27)","v":""}]
[null,null,{"$f":"IFERROR(IF(Sheet1!C28=\"\",\"\",IF(Sheet1!C28=LINK,\"1,\",IF(Sheet1!C28=CHKON,VLOOKUP(Sheet1!C27,Sheet1!$V$5:$Y$37,4,0),NOT(VLOOKUP(Sheet1!C27,Sheet1!$V$5:$Y$37,4,0)))&\",\")),\"ERR\")","v":""},{"$f":"IF(D29,IF(C31=\"\",\"OR(AND(\",\"1),\"&D30&\"),\"),IF(D26,IF(C28=\"\",\"AND(\",\"1)\"),\",\"))","v":","},{"$f":"IFERROR(IF(Sheet1!E28=\"\",\"\",IF(Sheet1!E28=LINK,\"1,\",IF(Sheet1!E28=CHKON,VLOOKUP(Sheet1!E27,Sheet1!$V$5:$Y$37,4,0),NOT(VLOOKUP(Sheet1!E27,Sheet1!$V$5:$Y$37,4,0)))&\",\")),\"ERR\")","v":""},{"$f":"IF(F29,IF(E31=\"\",\"OR(AND(\",\"1),\"&F30&\"),\"),IF(F26,IF(E28=\"\",\"AND(\",\"1)\"),\",\"))","v":","},{"$f":"IFERROR(IF(Sheet1!G28=\"\",\"\",IF(Sheet1!G28=LINK,\"1,\",IF(Sheet1!G28=CHKON,VLOOKUP(Sheet1!G27,Sheet1!$V$5:$Y$37,4,0),NOT(VLOOKUP(Sheet1!G27,Sheet1!$V$5:$Y$37,4,0)))&\",\")),\"ERR\")","v":""},{"$f":"IF(H29,IF(G31=\"\",\"OR(AND(\",\"1),\"&H30&\"),\"),IF(H26,IF(G28=\"\",\"AND(\",\"1)\"),\",\"))","v":","},{"$f":"IFERROR(IF(Sheet1!I28=\"\",\"\",IF(Sheet1!I28=LINK,\"1,\",IF(Sheet1!I28=CHKON,VLOOKUP(Sheet1!I27,Sheet1!$V$5:$Y$37,4,0),NOT(VLOOKUP(Sheet1!I27,Sheet1!$V$5:$Y$37,4,0)))&\",\")),\"ERR\")","v":""},{"$f":"IF(J29,IF(I31=\"\",\"OR(AND(\",\"1),\"&J30&\"),\"),IF(J26,IF(I28=\"\",\"AND(\",\"1)\"),\",\"))","v":","},{"$f":"IFERROR(IF(Sheet1!K28=\"\",\"\",IF(Sheet1!K28=LINK,\"1,\",IF(Sheet1!K28=CHKON,VLOOKUP(Sheet1!K27,Sheet1!$V$5:$Y$37,4,0),NOT(VLOOKUP(Sheet1!K27,Sheet1!$V$5:$Y$37,4,0)))&\",\")),\"ERR\")","v":""},{"$f":"IF(L29,IF(K31=\"\",\"OR(AND(\",\"1),\"&L30&\"),\"),IF(L26,IF(K28=\"\",\"AND(\",\"1)\"),\",\"))","v":","},{"$f":"IFERROR(IF(Sheet1!M28=\"\",\"\",IF(Sheet1!M28=LINK,\"1,\",IF(Sheet1!M28=CHKON,VLOOKUP(Sheet1!M27,Sheet1!$V$5:$Y$37,4,0),NOT(VLOOKUP(Sheet1!M27,Sheet1!$V$5:$Y$37,4,0)))&\",\")),\"ERR\")","v":""},{"$f":"IF(N29,IF(M31=\"\",\"OR(AND(\",\"1),\"&N30&\"),\"),IF(N26,IF(M28=\"\",\"AND(\",\"1)\"),\",\"))","v":","},{"$f":"IFERROR(IF(Sheet1!O28=\"\",\"\",IF(Sheet1!O28=LINK,\"1,\",IF(Sheet1!O28=CHKON,VLOOKUP(Sheet1!O27,Sheet1!$V$5:$Y$37,4,0),NOT(VLOOKUP(Sheet1!O27,Sheet1!$V$5:$Y$37,4,0)))&\",\")),\"ERR\")","v":""},{"$f":"IF(P29,IF(O31=\"\",\"OR(AND(\",\"1),\"&P30&\"),\"),IF(P26,IF(O28=\"\",\"AND(\",\"1)\"),\",\"))","v":","},{"$f":"IFERROR(IF(Sheet1!Q28=\"\",\"\",IF(Sheet1!Q28=LINK,\"1\",IF(Sheet1!Q28=CHKON,VLOOKUP(Sheet1!Q27,Sheet1!$V$5:$Y$37,4,0),NOT(VLOOKUP(Sheet1!Q27,Sheet1!$V$5:$Y$37,4,0))))),\"ERR\")","v":""},{"$f":"IF(Q27=\"\",\"\",\"IFERROR(\"&Q27&$S$2)","v":""},0]
[null,true,null,{"$f":"Sheet1!D29=VLINK","v":false},null,{"$f":"Sheet1!F29=VLINK","v":false},null,{"$f":"Sheet1!H29=VLINK","v":false},null,{"$f":"Sheet1!J29=VLINK","v":false},null,{"$f":"Sheet1!L29=VLINK","v":false},null,{"$f":"Sheet1!N29=VLINK","v":false},null,{"$f":"Sheet1!P29=VLINK","v":false}]
[null,null,{"$f":"IF(C31=\"\",\"\",\"AND(\"&C31)","v":""},{"$f":"IF(D31=\"\",\"\",C30&IF(D31=\",\",\"\",D31))","v":""},{"$f":"IF(E31=\"\",\"\",D30&IF(E31=\",\",\"\",E31))","v":""},{"$f":"IF(F31=\"\",\"\",E30&IF(F31=\",\",\"\",F31))","v":""},{"$f":"IF(G31=\"\",\"\",F30&IF(G31=\",\",\"\",G31))","v":""},{"$f":"IF(H31=\"\",\"\",G30&IF(H31=\",\",\"\",H31))","v":""},{"$f":"IF(I31=\"\",\"\",H30&IF(I31=\",\",\"\",I31))","v":""},{"$f":"IF(J31=\"\",\"\",I30&IF(J31=\",\",\"\",J31))","v":""},{"$f":"IF(K31=\"\",\"\",J30&IF(K31=\",\",\"\",K31))","v":""},{"$f":"IF(L31=\"\",\"\",K30&IF(L31=\",\",\"\",L31))","v":""},{"$f":"IF(M31=\"\",\"\",L30&IF(M31=\",\",\"\",M31))","v":""},{"$f":"IF(N31=\"\",\"\",M30&IF(N31=\",\",\"\",N31))","v":""},{"$f":"IF(O31=\"\",\"\",N30&IF(O31=\",\",\"\",O31))","v":""},{"$f":"IF(P31=\"\",\"\",O30&IF(P31=\",\",\"\",P31))","v":""},{"$f":"IF(Q31=\"\",\"\",P30&IF(Q31=\",\",\"\",Q31))","v":""},{"$f":"IF(Q31=\"\",\"\",Q30&R31)","v":""},{"$f":"IF(Sheet1!S30=\"\",\"\",Sheet1!S30)","v":""}]
[null,null,{"$f":"IFERROR(IF(Sheet1!C31=\"\",\"\",IF(Sheet1!C31=LINK,\"1,\",IF(Sheet1!C31=CHKON,VLOOKUP(Sheet1!C30,Sheet1!$V$5:$Y$37,4,0),NOT(VLOOKUP(Sheet1!C30,Sheet1!$V$5:$Y$37,4,0)))&\",\")),\"ERR\")","v":""},{"$f":"IF(D32,IF(C34=\"\",\"OR(AND(\",\"1),\"&D33&\"),\"),IF(D29,IF(C31=\"\",\"AND(\",\"1)\"),\",\"))","v":","},{"$f":"IFERROR(IF(Sheet1!E31=\"\",\"\",IF(Sheet1!E31=LINK,\"1,\",IF(Sheet1!E31=CHKON,VLOOKUP(Sheet1!E30,Sheet1!$V$5:$Y$37,4,0),NOT(VLOOKUP(Sheet1!E30,Sheet1!$V$5:$Y$37,4,0)))&\",\")),\"ERR\")","v":""},{"$f":"IF(F32,IF(E34=\"\",\"OR(AND(\",\"1),\"&F33&\"),\"),IF(F29,IF(E31=\"\",\"AND(\",\"1)\"),\",\"))","v":","},{"$f":"IFERROR(IF(Sheet1!G31=\"\",\"\",IF(Sheet1!G31=LINK,\"1,\",IF(Sheet1!G31=CHKON,VLOOKUP(Sheet1!G30,Sheet1!$V$5:$Y$37,4,0),NOT(VLOOKUP(Sheet1!G30,Sheet1!$V$5:$Y$37,4,0)))&\",\")),\"ERR\")","v":""},{"$f":"IF(H32,IF(G34=\"\",\"OR(AND(\",\"1),\"&H33&\"),\"),IF(H29,IF(G31=\"\",\"AND(\",\"1)\"),\",\"))","v":","},{"$f":"IFERROR(IF(Sheet1!I31=\"\",\"\",IF(Sheet1!I31=LINK,\"1,\",IF(Sheet1!I31=CHKON,VLOOKUP(Sheet1!I30,Sheet1!$V$5:$Y$37,4,0),NOT(VLOOKUP(Sheet1!I30,Sheet1!$V$5:$Y$37,4,0)))&\",\")),\"ERR\")","v":""},{"$f":"IF(J32,IF(I34=\"\",\"OR(AND(\",\"1),\"&J33&\"),\"),IF(J29,IF(I31=\"\",\"AND(\",\"1)\"),\",\"))","v":","},{"$f":"IFERROR(IF(Sheet1!K31=\"\",\"\",IF(Sheet1!K31=LINK,\"1,\",IF(Sheet1!K31=CHKON,VLOOKUP(Sheet1!K30,Sheet1!$V$5:$Y$37,4,0),NOT(VLOOKUP(Sheet1!K30,Sheet1!$V$5:$Y$37,4,0)))&\",\")),\"ERR\")","v":""},{"$f":"IF(L32,IF(K34=\"\",\"OR(AND(\",\"1),\"&L33&\"),\"),IF(L29,IF(K31=\"\",\"AND(\",\"1)\"),\",\"))","v":","},{"$f":"IFERROR(IF(Sheet1!M31=\"\",\"\",IF(Sheet1!M31=LINK,\"1,\",IF(Sheet1!M31=CHKON,VLOOKUP(Sheet1!M30,Sheet1!$V$5:$Y$37,4,0),NOT(VLOOKUP(Sheet1!M30,Sheet1!$V$5:$Y$37,4,0)))&\",\")),\"ERR\")","v":""},{"$f":"IF(N32,IF(M34=\"\",\"OR(AND(\",\"1),\"&N33&\"),\"),IF(N29,IF(M31=\"\",\"AND(\",\"1)\"),\",\"))","v":","},{"$f":"IFERROR(IF(Sheet1!O31=\"\",\"\",IF(Sheet1!O31=LINK,\"1,\",IF(Sheet1!O31=CHKON,VLOOKUP(Sheet1!O30,Sheet1!$V$5:$Y$37,4,0),NOT(VLOOKUP(Sheet1!O30,Sheet1!$V$5:$Y$37,4,0)))&\",\")),\"ERR\")","v":""},{"$f":"IF(P32,IF(O34=\"\",\"OR(AND(\",\"1),\"&P33&\"),\"),IF(P29,IF(O31=\"\",\"AND(\",\"1)\"),\",\"))","v":","},{"$f":"IFERROR(IF(Sheet1!Q31=\"\",\"\",IF(Sheet1!Q31=LINK,\"1\",IF(Sheet1!Q31=CHKON,VLOOKUP(Sheet1!Q30,Sheet1!$V$5:$Y$37,4,0),NOT(VLOOKUP(Sheet1!Q30,Sheet1!$V$5:$Y$37,4,0))))),\"ERR\")","v":""},{"$f":"IF(Q30=\"\",\"\",\"IFERROR(\"&Q30&$S$2)","v":""},0]
[null,true,null,{"$f":"Sheet1!D32=VLINK","v":false},null,{"$f":"Sheet1!F32=VLINK","v":false},null,{"$f":"Sheet1!H32=VLINK","v":false},null,{"$f":"Sheet1!J32=VLINK","v":false},null,{"$f":"Sheet1!L32=VLINK","v":false},null,{"$f":"Sheet1!N32=VLINK","v":false},null,{"$f":"Sheet1!P32=VLINK","v":false}]
[null,null,{"$f":"IF(C34=\"\",\"\",\"AND(\"&C34)","v":""},{"$f":"IF(D34=\"\",\"\",C33&IF(D34=\",\",\"\",D34))","v":""},{"$f":"IF(E34=\"\",\"\",D33&IF(E34=\",\",\"\",E34))","v":""},{"$f":"IF(F34=\"\",\"\",E33&IF(F34=\",\",\"\",F34))","v":""},{"$f":"IF(G34=\"\",\"\",F33&IF(G34=\",\",\"\",G34))","v":""},{"$f":"IF(H34=\"\",\"\",G33&IF(H34=\",\",\"\",H34))","v":""},{"$f":"IF(I34=\"\",\"\",H33&IF(I34=\",\",\"\",I34))","v":""},{"$f":"IF(J34=\"\",\"\",I33&IF(J34=\",\",\"\",J34))","v":""},{"$f":"IF(K34=\"\",\"\",J33&IF(K34=\",\",\"\",K34))","v":""},{"$f":"IF(L34=\"\",\"\",K33&IF(L34=\",\",\"\",L34))","v":""},{"$f":"IF(M34=\"\",\"\",L33&IF(M34=\",\",\"\",M34))","v":""},{"$f":"IF(N34=\"\",\"\",M33&IF(N34=\",\",\"\",N34))","v":""},{"$f":"IF(O34=\"\",\"\",N33&IF(O34=\",\",\"\",O34))","v":""},{"$f":"IF(P34=\"\",\"\",O33&IF(P34=\",\",\"\",P34))","v":""},{"$f":"IF(Q34=\"\",\"\",P33&IF(Q34=\",\",\"\",Q34))","v":""},null,{"$f":"IF(Sheet1!S33=\"\",\"\",Sheet1!S33)","v":""}]
[null,null,{"$f":"IFERROR(IF(Sheet1!C34=\"\",\"\",IF(Sheet1!C34=LINK,\"1,\",IF(Sheet1!C34=CHKON,VLOOKUP(Sheet1!C33,Sheet1!$V$5:$Y$37,4,0),NOT(VLOOKUP(Sheet1!C33,Sheet1!$V$5:$Y$37,4,0)))&\",\")),\"ERR\")","v":""},{"$f":"IF(D35,IF(C37=\"\",\"OR(AND(\",\"1),\"&D36&\"),\"),IF(D32,IF(C34=\"\",\"AND(\",\"1)\"),\",\"))","v":","},{"$f":"IFERROR(IF(Sheet1!E34=\"\",\"\",IF(Sheet1!E34=LINK,\"1,\",IF(Sheet1!E34=CHKON,VLOOKUP(Sheet1!E33,Sheet1!$V$5:$Y$37,4,0),NOT(VLOOKUP(Sheet1!E33,Sheet1!$V$5:$Y$37,4,0)))&\",\")),\"ERR\")","v":""},{"$f":"IF(F35,IF(E37=\"\",\"OR(AND(\",\"1),\"&F36&\"),\"),IF(F32,IF(E34=\"\",\"AND(\",\"1)\"),\",\"))","v":","},{"$f":"IFERROR(IF(Sheet1!G34=\"\",\"\",IF(Sheet1!G34=LINK,\"1,\",IF(Sheet1!G34=CHKON,VLOOKUP(Sheet1!G33,Sheet1!$V$5:$Y$37,4,0),NOT(VLOOKUP(Sheet1!G33,Sheet1!$V$5:$Y$37,4,0)))&\",\")),\"ERR\")","v":""},{"$f":"IF(H35,IF(G37=\"\",\"OR(AND(\",\"1),\"&H36&\"),\"),IF(H32,IF(G34=\"\",\"AND(\",\"1)\"),\",\"))","v":","},{"$f":"IFERROR(IF(Sheet1!I34=\"\",\"\",IF(Sheet1!I34=LINK,\"1,\",IF(Sheet1!I34=CHKON,VLOOKUP(Sheet1!I33,Sheet1!$V$5:$Y$37,4,0),NOT(VLOOKUP(Sheet1!I33,Sheet1!$V$5:$Y$37,4,0)))&\",\")),\"ERR\")","v":""},{"$f":"IF(J35,IF(I37=\"\",\"OR(AND(\",\"1),\"&J36&\"),\"),IF(J32,IF(I34=\"\",\"AND(\",\"1)\"),\",\"))","v":","},{"$f":"IFERROR(IF(Sheet1!K34=\"\",\"\",IF(Sheet1!K34=LINK,\"1,\",IF(Sheet1!K34=CHKON,VLOOKUP(Sheet1!K33,Sheet1!$V$5:$Y$37,4,0),NOT(VLOOKUP(Sheet1!K33,Sheet1!$V$5:$Y$37,4,0)))&\",\")),\"ERR\")","v":""},{"$f":"IF(L35,IF(K37=\"\",\"OR(AND(\",\"1),\"&L36&\"),\"),IF(L32,IF(K34=\"\",\"AND(\",\"1)\"),\",\"))","v":","},{"$f":"IFERROR(IF(Sheet1!M34=\"\",\"\",IF(Sheet1!M34=LINK,\"1,\",IF(Sheet1!M34=CHKON,VLOOKUP(Sheet1!M33,Sheet1!$V$5:$Y$37,4,0),NOT(VLOOKUP(Sheet1!M33,Sheet1!$V$5:$Y$37,4,0)))&\",\")),\"ERR\")","v":""},{"$f":"IF(N35,IF(M37=\"\",\"OR(AND(\",\"1),\"&N36&\"),\"),IF(N32,IF(M34=\"\",\"AND(\",\"1)\"),\",\"))","v":","},{"$f":"IFERROR(IF(Sheet1!O34=\"\",\"\",IF(Sheet1!O34=LINK,\"1,\",IF(Sheet1!O34=CHKON,VLOOKUP(Sheet1!O33,Sheet1!$V$5:$Y$37,4,0),NOT(VLOOKUP(Sheet1!O33,Sheet1!$V$5:$Y$37,4,0)))&\",\")),\"ERR\")","v":""},{"$f":"IF(P35,IF(O37=\"\",\"OR(AND(\",\"1),\"&P36&\"),\"),IF(P32,IF(O34=\"\",\"AND(\",\"1)\"),\",\"))","v":","},{"$f":"IFERROR(IF(Sheet1!Q34=\"\",\"\",IF(Sheet1!Q34=LINK,\"1\",IF(Sheet1!Q34=CHKON,VLOOKUP(Sheet1!Q33,Sheet1!$V$5:$Y$37,4,0),NOT(VLOOKUP(Sheet1!Q33,Sheet1!$V$5:$Y$37,4,0))))),\"ERR\")","v":""},{"$f":"IF(Q33=\"\",\"\",\"IFERROR(\"&Q33&$S$2)","v":""},0]
[null,true,null,{"$f":"Sheet1!D35=VLINK","v":false},null,{"$f":"Sheet1!F35=VLINK","v":false},null,{"$f":"Sheet1!H35=VLINK","v":false},null,{"$f":"Sheet1!J35=VLINK","v":false},null,{"$f":"Sheet1!L35=VLINK","v":false},null,{"$f":"Sheet1!N35=VLINK","v":false},null,{"$f":"Sheet1!P35=VLINK","v":false}]
[null,null,{"$f":"IF(C37=\"\",\"\",\"AND(\"&C37)","v":""},{"$f":"IF(D37=\"\",\"\",C36&IF(D37=\",\",\"\",D37))","v":""},{"$f":"IF(E37=\"\",\"\",D36&IF(E37=\",\",\"\",E37))","v":""},{"$f":"IF(F37=\"\",\"\",E36&IF(F37=\",\",\"\",F37))","v":""},{"$f":"IF(G37=\"\",\"\",F36&IF(G37=\",\",\"\",G37))","v":""},{"$f":"IF(H37=\"\",\"\",G36&IF(H37=\",\",\"\",H37))","v":""},{"$f":"IF(I37=\"\",\"\",H36&IF(I37=\",\",\"\",I37))","v":""},{"$f":"IF(J37=\"\",\"\",I36&IF(J37=\",\",\"\",J37))","v":""},{"$f":"IF(K37=\"\",\"\",J36&IF(K37=\",\",\"\",K37))","v":""},{"$f":"IF(L37=\"\",\"\",K36&IF(L37=\",\",\"\",L37))","v":""},{"$f":"IF(M37=\"\",\"\",L36&IF(M37=\",\",\"\",M37))","v":""},{"$f":"IF(N37=\"\",\"\",M36&IF(N37=\",\",\"\",N37))","v":""},{"$f":"IF(O37=\"\",\"\",N36&IF(O37=\",\",\"\",O37))","v":""},{"$f":"IF(P37=\"\",\"\",O36&IF(P37=\",\",\"\",P37))","v":""},{"$f":"IF(Q37=\"\",\"\",P36&IF(Q37=\",\",\"\",Q37))","v":""},null,{"$f":"IF(Sheet1!S36=\"\",\"\",Sheet1!S36)","v":""}]
[null,null,{"$f":"IFERROR(IF(Sheet1!C37=\"\",\"\",IF(Sheet1!C37=LINK,\"1,\",IF(Sheet1!C37=CHKON,VLOOKUP(Sheet1!C36,Sheet1!$V$5:$Y$37,4,0),NOT(VLOOKUP(Sheet1!C36,Sheet1!$V$5:$Y$37,4,0)))&\",\")),\"ERR\")","v":""},{"$f":"IF(D38,IF(C40=\"\",\"OR(AND(\",\"1),\"&D39&\"),\"),IF(D35,IF(C37=\"\",\"AND(\",\"1)\"),\",\"))","v":","},{"$f":"IFERROR(IF(Sheet1!E37=\"\",\"\",IF(Sheet1!E37=LINK,\"1,\",IF(Sheet1!E37=CHKON,VLOOKUP(Sheet1!E36,Sheet1!$V$5:$Y$37,4,0),NOT(VLOOKUP(Sheet1!E36,Sheet1!$V$5:$Y$37,4,0)))&\",\")),\"ERR\")","v":""},{"$f":"IF(F38,IF(E40=\"\",\"OR(AND(\",\"1),\"&F39&\"),\"),IF(F35,IF(E37=\"\",\"AND(\",\"1)\"),\",\"))","v":","},{"$f":"IFERROR(IF(Sheet1!G37=\"\",\"\",IF(Sheet1!G37=LINK,\"1,\",IF(Sheet1!G37=CHKON,VLOOKUP(Sheet1!G36,Sheet1!$V$5:$Y$37,4,0),NOT(VLOOKUP(Sheet1!G36,Sheet1!$V$5:$Y$37,4,0)))&\",\")),\"ERR\")","v":""},{"$f":"IF(H38,IF(G40=\"\",\"OR(AND(\",\"1),\"&H39&\"),\"),IF(H35,IF(G37=\"\",\"AND(\",\"1)\"),\",\"))","v":","},{"$f":"IFERROR(IF(Sheet1!I37=\"\",\"\",IF(Sheet1!I37=LINK,\"1,\",IF(Sheet1!I37=CHKON,VLOOKUP(Sheet1!I36,Sheet1!$V$5:$Y$37,4,0),NOT(VLOOKUP(Sheet1!I36,Sheet1!$V$5:$Y$37,4,0)))&\",\")),\"ERR\")","v":""},{"$f":"IF(J38,IF(I40=\"\",\"OR(AND(\",\"1),\"&J39&\"),\"),IF(J35,IF(I37=\"\",\"AND(\",\"1)\"),\",\"))","v":","},{"$f":"IFERROR(IF(Sheet1!K37=\"\",\"\",IF(Sheet1!K37=LINK,\"1,\",IF(Sheet1!K37=CHKON,VLOOKUP(Sheet1!K36,Sheet1!$V$5:$Y$37,4,0),NOT(VLOOKUP(Sheet1!K36,Sheet1!$V$5:$Y$37,4,0)))&\",\")),\"ERR\")","v":""},{"$f":"IF(L38,IF(K40=\"\",\"OR(AND(\",\"1),\"&L39&\"),\"),IF(L35,IF(K37=\"\",\"AND(\",\"1)\"),\",\"))","v":","},{"$f":"IFERROR(IF(Sheet1!M37=\"\",\"\",IF(Sheet1!M37=LINK,\"1,\",IF(Sheet1!M37=CHKON,VLOOKUP(Sheet1!M36,Sheet1!$V$5:$Y$37,4,0),NOT(VLOOKUP(Sheet1!M36,Sheet1!$V$5:$Y$37,4,0)))&\",\")),\"ERR\")","v":""},{"$f":"IF(N38,IF(M40=\"\",\"OR(AND(\",\"1),\"&N39&\"),\"),IF(N35,IF(M37=\"\",\"AND(\",\"1)\"),\",\"))","v":","},{"$f":"IFERROR(IF(Sheet1!O37=\"\",\"\",IF(Sheet1!O37=LINK,\"1,\",IF(Sheet1!O37=CHKON,VLOOKUP(Sheet1!O36,Sheet1!$V$5:$Y$37,4,0),NOT(VLOOKUP(Sheet1!O36,Sheet1!$V$5:$Y$37,4,0)))&\",\")),\"ERR\")","v":""},{"$f":"IF(P38,IF(O40=\"\",\"OR(AND(\",\"1),\"&P39&\"),\"),IF(P35,IF(O37=\"\",\"AND(\",\"1)\"),\",\"))","v":","},{"$f":"IFERROR(IF(Sheet1!Q37=\"\",\"\",IF(Sheet1!Q37=LINK,\"1\",IF(Sheet1!Q37=CHKON,VLOOKUP(Sheet1!Q36,Sheet1!$V$5:$Y$37,4,0),NOT(VLOOKUP(Sheet1!Q36,Sheet1!$V$5:$Y$37,4,0))))),\"ERR\")","v":""},{"$f":"IF(Q36=\"\",\"\",\"IFERROR(\"&Q36&$S$2)","v":""},0]
[null,null,null,{"$f":"Sheet1!D38=VLINK","v":false},null,{"$f":"Sheet1!F38=VLINK","v":false},null,{"$f":"Sheet1!H38=VLINK","v":false},null,{"$f":"Sheet1!J38=VLINK","v":false},null,{"$f":"Sheet1!L38=VLINK","v":false},null,{"$f":"Sheet1!N38=VLINK","v":false},null,{"$f":"Sheet1!P38=VLINK","v":false}]